Workbook

Sheet Entry
A2: Days | B2: 1M | C2: 2T | D2: 3W | E2: 4TH | F2: 5F | G2: 6ST | H2: 7S | I2: 8M | J2: 9T | K2: 10W | L2: 11TH | M2: 12F | N2: 13ST | O2: 14S | P2: 15M | Q2: 16T | R2: 17W | S2: 18TH | T2: 19F | U2: 20ST | V2: 21S | W2: 22M | X2: 23T | Y2: 24W | Z2: 25TH | AA2: 26F | AB2: 27ST | AC2: 28S | AD2: 29M | AE2: 30T
A3: DR. ASHWANI PRADHAN | B3: GS | C3: GS | D3: GS | E3: GS | F3: GS | G3: GS | H3: O | I3: GS | J3: GS | K3: GS | L3: GS | M3: GS | N3: GS | O3: O | P3: GS | Q3: GS | R3: GS | S3: GS | T3: GS | U3: GS | V3: O | W3: GS | X3: GS | Y3: GS | Z3: GS | AA3: GS | AB3: GS | AC3: O | AD3: GS | AE3: GS
A4: DR. SURAJ SAO | B4: GS | C4: GS | D4: GS | E4: GS | F4: GS | G4: GS | H4: O | I4: GS | J4: GS | K4: GS | L4: GS | M4: GS | N4: GS | O4: O | P4: GS | Q4: GS | R4: GS | S4: GS | T4: GS | U4: GS | V4: O | W4: GS | X4: GS | Y4: GS | Z4: GS | AA4: GS | AB4: GS | AC4: O | AD4: GS | AE4: GS
A5: DR. PANKAJ VERMA | B5: GS | C5: GS | D5: GS | E5: GS | F5: GS | G5: GS | H5: O | I5: GS | J5: GS | K5: GS | L5: GS | M5: GS | N5: GS | O5: O | P5: GS | Q5: GS | R5: GS | S5: GS | T5: GS | U5: GS | V5: O | W5: GS | X5: GS | Y5: GS | Z5: GS | AA5: GS | AB5: GS | AC5: O | AD5: GS | AE5: GS
A6: DR. SANJANA DEBNATH | B6: GS | C6: GS | D6: GS | E6: GS | F6: GS | G6: GS | H6: O | I6: GS | J6: GS | K6: GS | L6: GS | M6: GS | N6: GS | O6: O | P6: GS | Q6: GS | R6: GS | S6: GS | T6: GS | U6: GS | V6: O | W6: GS | X6: GS | Y6: GS | Z6: GS | AA6: GS | AB6: GS | AC6: O | AD6: GS | AE6: GS
A7: DR. JAYA SINGH KHARSON | B7: GS | C7: GS | D7: GS | E7: GS | F7: GS | G7: GS | H7: O | I7: GS | J7: GS | K7: GS | L7: GS | M7: GS | N7: GS | O7: O | P7: GS | Q7: GS | R7: GS | S7: GS | T7: GS | U7: GS | V7: O | W7: GS | X7: GS | Y7: GS | Z7: GS | AA7: GS | AB7: GS | AC7: O | AD7: GS | AE7: GS
A8: DR. RAHUL SINGH | B8: GS | C8: GS | D8: GS | E8: GS | F8: GS | G8: GS | H8: O | I8: GS | J8: GS | K8: GS | L8: GS | M8: GS | N8: GS | O8: O | P8: GS | Q8: GS | R8: GS | S8: GS | T8: GS | U8: GS | V8: O | W8: GS | X8: GS | Y8: GS | Z8: GS | AA8: GS | AB8: GS | AC8: O | AD8: GS | AE8: GS
A9: DR. SONIA SINGH | B9: GS | C9: GS | D9: GS | E9: GS | F9: GS | G9: GS | H9: O | I9: GS | J9: GS | K9: GS | L9: GS | M9: GS | N9: GS | O9: O | P9: GS | Q9: GS | R9: GS | S9: GS | T9: GS | U9: GS | V9: O | W9: GS | X9: GS | Y9: GS | Z9: GS | AA9: GS | AB9: GS | AC9: O | AD9: GS | AE9: GS
A10: DR. AKANSHA PURI | B10: GS | C10: GS | D10: GS | E10: GS | F10: GS | G10: GS | H10: O | I10: GS | J10: GS | K10: GS | L10: GS | M10: GS | N10: GS | O10: O | P10: GS | Q10: GS | R10: GS | S10: GS | T10: GS | U10: GS | V10: O | W10: GS | X10: GS | Y10: GS | Z10: GS | AA10: GS | AB10: GS | AC10: O | AD10: GS | AE10: GS
A11: DR. NAMITA PATEL | B11: GS | C11: GS | D11: GS | E11: GS | F11: GS | G11: GS | H11: O | I11: GS | J11: GS | K11: GS | L11: GS | M11: GS | N11: GS | O11: O | P11: GS | Q11: GS | R11: GS | S11: GS | T11: GS | U11: GS | V11: O | W11: GS | X11: GS | Y11: GS | Z11: GS | AA11: GS | AB11: GS | AC11: O | AD11: GS | AE11: GS
A12: DR. VIBHA SEN | B12: GS | C12: GS | D12: GS | E12: GS | F12: GS | G12: GS | H12: O | I12: GS | J12: GS | K12: GS | L12: GS | M12: GS | N12: GS | O12: O | P12: GS | Q12: GS | R12: GS | S12: GS | T12: GS | U12: GS | V12: O | W12: GS | X12: GS | Y12: GS | Z12: GS | AA12: GS | AB12: GS | AC12: O | AD12: GS | AE12: GS
A13: DR. VINITA MAYANK GUPTA | B13: GS | C13: GS | D13: GS | E13: GS | F13: GS | G13: GS | H13: O | I13: GS | J13: GS | K13: GS | L13: GS | M13: GS | N13: GS | O13: O | P13: GS | Q13: GS | R13: GS | S13: GS | T13: GS | U13: GS | V13: O | W13: GS | X13: GS | Y13: GS | Z13: GS | AA13: GS | AB13: GS | AC13: O | AD13: GS | AE13: GS
... A114: Ms. Samari Sarthi | B114: GS | C114: GS | D114: GS | E114: GS | F114: GS | G114: GS | H114: GS | I114: GS | J114: O | K114: GS | L114: GS | M114: GS | N114: GS | O114: GS | P114: GS | Q114: GS | R114: GS | S114: GS | T114: GS | U114: GS | V114: GS | W114: GS | X114: O | Y114: GS | Z114: GS | AA114: GS | AB114: GS | AC114: GS | AD114: GS | AE114: GS

Sheet Main
A1: RAIGARH MEDICAL COLLEGE & HOSPITAL OF AYURVEDA
A3: Days | B3: =Entry!B2 -> 1M | C3: =Entry!C2 -> 2T | D3: =Entry!D2 -> 3W | E3: =Entry!E2 -> 4TH | F3: =Entry!F2 -> 5F | G3: =Entry!G2 -> 6ST | H3: =Entry!H2 -> 7S | I3: =Entry!I2 -> 8M | ... AE3: =Entry!AE2 -> 30T
A4: Department: Default
A5: =Entry!A3 -> DR. ASHWANI PRADHAN | H5: Total Work Duration: | L5: =AG21 -> 8.8006944 | M5: Hrs. | N5: Total OT: | P5: 0 | Q5: Hrs | R5: Present: | T5: =AH7 -> 26 | U5: Absent: | W5: =AH8 -> 0 | X5: WeeklyOff: | Z5: =AH9 -> 4 | AA5: Holidays: 0 Leaves Taken:0
H6: Late By Hrs: | K6: =AG20 -> 0.066666667 | L6: Late By Days: | N6: 0
A7: Status | B7: =IF(B14="M","P",IF(B14="E","P",IF(B14="N","P",IF(B14="GS","P",IF(B14="O","O","A"))))) -> P | C7: =IF(C14="M","P",IF(C14="E","P",IF(C14="N","P",IF(C14="GS","P",IF(C14="O","O","A"))))) -> P | D7: =IF(D14="M","P",IF(D14="E","P",IF(D14="N","P",IF(D14="GS","P",IF(D14="O","O","A"))))) -> P | E7: =IF(E14="M","P",IF(E14="E","P",IF(E14="N","P",IF(E14="GS","P",IF(E14="O","O","A"))))) -> P | F7: =IF(F14="M","P",IF(F14="E","P",IF(F14="N","P",IF(F14="GS","P",IF(F14="O","O","A"))))) -> P | G7: =IF(G14="M","P",IF(G14="E","P",IF(G14="N","P",IF(G14="GS","P",IF(G14="O","O","A"))))) -> P | H7: =IF(H14="M","P",IF(H14="E","P",IF(H14="N","P",IF(H14="GS","P",IF(H14="O","O","A"))))) -> O | I7: =IF(I14="M","P",IF(I14="E","P",IF(I14="N","P",IF(I14="GS","P",IF(I14="O","O","A"))))) -> P | ... AE7: =IF(AE14="M","P",IF(AE14="E","P",IF(AE14="N","P",IF(AE14="GS","P",IF(AE14="O","O","A"))))) -> P | AG7: present | AH7: =COUNTIF(B7:AE7,"P") -> 26
A8: InTime | B8: =IF(B14="M",TEXT(7.8/24+RAND()*(8.3/24-7.8/24),"HH:MM"),(IF(B14="E",TEXT(13.8/24+RAND()*(14.3/24-13.8/24),"HH:MM"),IF(B14="GS",TEXT(8.8/24+RAND()*(9.3/24-8.8/24),"HH:MM"),IF(B14="N",TEXT(19.8/24+RAND()*(20.3/24-19.8/24),"HH:MM"),""))))) -> 08:52 | C8: =IF(C14="M",TEXT(7.8/24+RAND()*(8.3/24-7.8/24),"HH:MM"),(IF(C14="E",TEXT(13.8/24+RAND()*(14.3/24-13.8/24),"HH:MM"),IF(C14="GS",TEXT(8.8/24+RAND()*(9.3/24-8.8/24),"HH:MM"),IF(C14="N",TEXT(19.8/24+RAND()*(20.3/24-19.8/24),"HH:MM"),""))))) -> 09:03 | D8: =IF(D14="M",TEXT(7.8/24+RAND()*(8.3/24-7.8/24),"HH:MM"),(IF(D14="E",TEXT(13.8/24+RAND()*(14.3/24-13.8/24),"HH:MM"),IF(D14="GS",TEXT(8.8/24+RAND()*(9.3/24-8.8/24),"HH:MM"),IF(D14="N",TEXT(19.8/24+RAND()*(20.3/24-19.8/24),"HH:MM"),""))))) -> 09:05 | E8: =IF(E14="M",TEXT(7.8/24+RAND()*(8.3/24-7.8/24),"HH:MM"),(IF(E14="E",TEXT(13.8/24+RAND()*(14.3/24-13.8/24),"HH:MM"),IF(E14="GS",TEXT(8.8/24+RAND()*(9.3/24-8.8/24),"HH:MM"),IF(E14="N",TEXT(19.8/24+RAND()*(20.3/24-19.8/24),"HH:MM"),""))))) -> 08:51 | F8: =IF(F14="M",TEXT(7.8/24+RAND()*(8.3/24-7.8/24),"HH:MM"),(IF(F14="E",TEXT(13.8/24+RAND()*(14.3/24-13.8/24),"HH:MM"),IF(F14="GS",TEXT(8.8/24+RAND()*(9.3/24-8.8/24),"HH:MM"),IF(F14="N",TEXT(19.8/24+RAND()*(20.3/24-19.8/24),"HH:MM"),""))))) -> 09:09 | G8: =IF(G14="M",TEXT(7.8/24+RAND()*(8.3/24-7.8/24),"HH:MM"),(IF(G14="E",TEXT(13.8/24+RAND()*(14.3/24-13.8/24),"HH:MM"),IF(G14="GS",TEXT(8.8/24+RAND()*(9.3/24-8.8/24),"HH:MM"),IF(G14="N",TEXT(19.8/24+RAND()*(20.3/24-19.8/24),"HH:MM"),""))))) -> 09:02 | H8: =IF(H14="M",TEXT(7.8/24+RAND()*(8.3/24-7.8/24),"HH:MM"),(IF(H14="E",TEXT(13.8/24+RAND()*(14.3/24-13.8/24),"HH:MM"),IF(H14="GS",TEXT(8.8/24+RAND()*(9.3/24-8.8/24),"HH:MM"),IF(H14="N",TEXT(19.8/24+RAND()*(20.3/24-19.8/24),"HH:MM"),""))))) | I8: =IF(I14="M",TEXT(7.8/24+RAND()*(8.3/24-7.8/24),"HH:MM"),(IF(I14="E",TEXT(13.8/24+RAND()*(14.3/24-13.8/24),"HH:MM"),IF(I14="GS",TEXT(8.8/24+RAND()*(9.3/24-8.8/24),"HH:MM"),IF(I14="N",TEXT(19.8/24+RAND()*(20.3/24-19.8/24),"HH:MM"),""))))) -> 08:52 | ... AE8: =IF(AE14="M",TEXT(7.8/24+RAND()*(8.3/24-7.8/24),"HH:MM"),(IF(AE14="E",TEXT(13.8/24+RAND()*(14.3/24-13.8/24),"HH:MM"),IF(AE14="GS",TEXT(8.8/24+RAND()*(9.3/24-8.8/24),"HH:MM"),IF(AE14="N",TEXT(19.8/24+RAND()*(20.3/24-19.8/24),"HH:MM"),""))))) -> 08:51 | AG8: absent | AH8: =COUNTIF(B7:AE7,"A") -> 0
A9: OutTime | B9: =IF(B14="M",TEXT(17/24+RAND()*(17.3/24-17/24),"HH:MM"),(IF(B14="E",TEXT(20/24+RAND()*(20.3/24-20/24),"HH:MM"),IF(B14="N",TEXT(8/24+RAND()*(8.3/24-8/24),"HH:MM"),IF(B14="GS",TEXT(17/24+RAND()*(17.3/24-17/24),"HH:MM"),""))))) -> 17:03 | C9: =IF(C14="M",TEXT(17/24+RAND()*(17.3/24-17/24),"HH:MM"),(IF(C14="E",TEXT(20/24+RAND()*(20.3/24-20/24),"HH:MM"),IF(C14="N",TEXT(8/24+RAND()*(8.3/24-8/24),"HH:MM"),IF(C14="GS",TEXT(17/24+RAND()*(17.3/24-17/24),"HH:MM"),""))))) -> 17:11 | D9: =IF(D14="M",TEXT(17/24+RAND()*(17.3/24-17/24),"HH:MM"),(IF(D14="E",TEXT(20/24+RAND()*(20.3/24-20/24),"HH:MM"),IF(D14="N",TEXT(8/24+RAND()*(8.3/24-8/24),"HH:MM"),IF(D14="GS",TEXT(17/24+RAND()*(17.3/24-17/24),"HH:MM"),""))))) -> 17:12 | E9: =IF(E14="M",TEXT(17/24+RAND()*(17.3/24-17/24),"HH:MM"),(IF(E14="E",TEXT(20/24+RAND()*(20.3/24-20/24),"HH:MM"),IF(E14="N",TEXT(8/24+RAND()*(8.3/24-8/24),"HH:MM"),IF(E14="GS",TEXT(17/24+RAND()*(17.3/24-17/24),"HH:MM"),""))))) -> 17:00 | F9: =IF(F14="M",TEXT(17/24+RAND()*(17.3/24-17/24),"HH:MM"),(IF(F14="E",TEXT(20/24+RAND()*(20.3/24-20/24),"HH:MM"),IF(F14="N",TEXT(8/24+RAND()*(8.3/24-8/24),"HH:MM"),IF(F14="GS",TEXT(17/24+RAND()*(17.3/24-17/24),"HH:MM"),""))))) -> 17:10 | G9: =IF(G14="M",TEXT(17/24+RAND()*(17.3/24-17/24),"HH:MM"),(IF(G14="E",TEXT(20/24+RAND()*(20.3/24-20/24),"HH:MM"),IF(G14="N",TEXT(8/24+RAND()*(8.3/24-8/24),"HH:MM"),IF(G14="GS",TEXT(17/24+RAND()*(17.3/24-17/24),"HH:MM"),""))))) -> 17:07 | H9: =IF(H14="M",TEXT(17/24+RAND()*(17.3/24-17/24),"HH:MM"),(IF(H14="E",TEXT(20/24+RAND()*(20.3/24-20/24),"HH:MM"),IF(H14="N",TEXT(8/24+RAND()*(8.3/24-8/24),"HH:MM"),IF(H14="GS",TEXT(17/24+RAND()*(17.3/24-17/24),"HH:MM"),""))))) | I9: =IF(I14="M",TEXT(17/24+RAND()*(17.3/24-17/24),"HH:MM"),(IF(I14="E",TEXT(20/24+RAND()*(20.3/24-20/24),"HH:MM"),IF(I14="N",TEXT(8/24+RAND()*(8.3/24-8/24),"HH:MM"),IF(I14="GS",TEXT(17/24+RAND()*(17.3/24-17/24),"HH:MM"),""))))) -> 17:06 | ... AE9: =IF(AE14="M",TEXT(17/24+RAND()*(17.3/24-17/24),"HH:MM"),(IF(AE14="E",TEXT(20/24+RAND()*(20.3/24-20/24),"HH:MM"),IF(AE14="N",TEXT(8/24+RAND()*(8.3/24-8/24),"HH:MM"),IF(AE14="GS",TEXT(17/24+RAND()*(17.3/24-17/24),"HH:MM"),""))))) -> 17:13 | AG9: WeekOFF | AH9: =COUNTIF(B14:AE14,"O") -> 4
A10: Duration | B10: =IF(B14="M",TEXT(B9-B8,"H:MM"),IF(B14="E",TEXT(B9-B8,"H:MM"),IF(B14="N",TEXT(B9+24-B8+30,"H:MM"),IF(B14="GS",TEXT(B9-B8,"H:MM"),"")))) -> 8:11 | C10: =IF(C14="M",TEXT(C9-C8,"H:MM"),IF(C14="E",TEXT(C9-C8,"H:MM"),IF(C14="N",TEXT(C9+24-C8+30,"H:MM"),IF(C14="GS",TEXT(C9-C8,"H:MM"),"")))) -> 8:08 | D10: =IF(D14="M",TEXT(D9-D8,"H:MM"),IF(D14="E",TEXT(D9-D8,"H:MM"),IF(D14="N",TEXT(D9+24-D8+30,"H:MM"),IF(D14="GS",TEXT(D9-D8,"H:MM"),"")))) -> 8:07 | E10: =IF(E14="M",TEXT(E9-E8,"H:MM"),IF(E14="E",TEXT(E9-E8,"H:MM"),IF(E14="N",TEXT(E9+24-E8+30,"H:MM"),IF(E14="GS",TEXT(E9-E8,"H:MM"),"")))) -> 8:09 | F10: =IF(F14="M",TEXT(F9-F8,"H:MM"),IF(F14="E",TEXT(F9-F8,"H:MM"),IF(F14="N",TEXT(F9+24-F8+30,"H:MM"),IF(F14="GS",TEXT(F9-F8,"H:MM"),"")))) -> 8:01 | G10: =IF(G14="M",TEXT(G9-G8,"H:MM"),IF(G14="E",TEXT(G9-G8,"H:MM"),IF(G14="N",TEXT(G9+24-G8+30,"H:MM"),IF(G14="GS",TEXT(G9-G8,"H:MM"),"")))) -> 8:05 | H10: =IF(H14="M",TEXT(H9-H8,"H:MM"),IF(H14="E",TEXT(H9-H8,"H:MM"),IF(H14="N",TEXT(H9+24-H8+30,"H:MM"),IF(H14="GS",TEXT(H9-H8,"H:MM"),"")))) | I10: =IF(I14="M",TEXT(I9-I8,"H:MM"),IF(I14="E",TEXT(I9-I8,"H:MM"),IF(I14="N",TEXT(I9+24-I8+30,"H:MM"),IF(I14="GS",TEXT(I9-I8,"H:MM"),"")))) -> 8:14 | ... AE10: =IF(AE14="M",TEXT(AE9-AE8,"H:MM"),IF(AE14="E",TEXT(AE9-AE8,"H:MM"),IF(AE14="N",TEXT(AE9+24-AE8+30,"H:MM"),IF(AE14="GS",TEXT(AE9-AE8,"H:MM"),"")))) -> 8:22 | AG10: late by days | AH10: =COUNTIF(B11:AE11,(B11:AE11)>0) -> 0
A11: Late By | B11: =IF(AND(B14="GS",B16>$B$19),TEXT(B16-$B$19,"HH:MM"),IF(AND(B14="M",B16>$B$15),TEXT(B16-$B$15,"HH:MM"),IF(AND(B14="E",B16>$B$17),TEXT(B16-$B$17,"HH:MM"),IF(AND(B14="N",B16>$B$18),TEXT(B16-$B$18,"HH:MM"),IF(OR(B14="O",B14="A"),"",0))))) -> 0 | C11: =IF(AND(C14="GS",C16>$B$19),TEXT(C16-$B$19,"HH:MM"),IF(AND(C14="M",C16>$B$15),TEXT(C16-$B$15,"HH:MM"),IF(AND(C14="E",C16>$B$17),TEXT(C16-$B$17,"HH:MM"),IF(AND(C14="N",C16>$B$18),TEXT(C16-$B$18,"HH:MM"),IF(OR(C14="O",C14="A"),"",0))))) -> 00:03 | D11: =IF(AND(D14="GS",D16>$B$19),TEXT(D16-$B$19,"HH:MM"),IF(AND(D14="M",D16>$B$15),TEXT(D16-$B$15,"HH:MM"),IF(AND(D14="E",D16>$B$17),TEXT(D16-$B$17,"HH:MM"),IF(AND(D14="N",D16>$B$18),TEXT(D16-$B$18,"HH:MM"),IF(OR(D14="O",D14="A"),"",0))))) -> 00:05 | E11: =IF(AND(E14="GS",E16>$B$19),TEXT(E16-$B$19,"HH:MM"),IF(AND(E14="M",E16>$B$15),TEXT(E16-$B$15,"HH:MM"),IF(AND(E14="E",E16>$B$17),TEXT(E16-$B$17,"HH:MM"),IF(AND(E14="N",E16>$B$18),TEXT(E16-$B$18,"HH:MM"),IF(OR(E14="O",E14="A"),"",0))))) -> 0 | F11: =IF(AND(F14="GS",F16>$B$19),TEXT(F16-$B$19,"HH:MM"),IF(AND(F14="M",F16>$B$15),TEXT(F16-$B$15,"HH:MM"),IF(AND(F14="E",F16>$B$17),TEXT(F16-$B$17,"HH:MM"),IF(AND(F14="N",F16>$B$18),TEXT(F16-$B$18,"HH:MM"),IF(OR(F14="O",F14="A"),"",0))))) -> 00:09 | G11: =IF(AND(G14="GS",G16>$B$19),TEXT(G16-$B$19,"HH:MM"),IF(AND(G14="M",G16>$B$15),TEXT(G16-$B$15,"HH:MM"),IF(AND(G14="E",G16>$B$17),TEXT(G16-$B$17,"HH:MM"),IF(AND(G14="N",G16>$B$18),TEXT(G16-$B$18,"HH:MM"),IF(OR(G14="O",G14="A"),"",0))))) -> 00:02 | H11: =IF(AND(H14="GS",H16>$B$19),TEXT(H16-$B$19,"HH:MM"),IF(AND(H14="M",H16>$B$15),TEXT(H16-$B$15,"HH:MM"),IF(AND(H14="E",H16>$B$17),TEXT(H16-$B$17,"HH:MM"),IF(AND(H14="N",H16>$B$18),TEXT(H16-$B$18,"HH:MM"),IF(OR(H14="O",H14="A"),"",0))))) | I11: =IF(AND(I14="GS",I16>$B$19),TEXT(I16-$B$19,"HH:MM"),IF(AND(I14="M",I16>$B$15),TEXT(I16-$B$15,"HH:MM"),IF(AND(I14="E",I16>$B$17),TEXT(I16-$B$17,"HH:MM"),IF(AND(I14="N",I16>$B$18),TEXT(I16-$B$18,"HH:MM"),IF(OR(I14="O",I14="A"),"",0))))) -> 0 | ... AE11: =IF(AND(AE14="GS",AE16>$B$19),TEXT(AE16-$B$19,"HH:MM"),IF(AND(AE14="M",AE16>$B$15),TEXT(AE16-$B$15,"HH:MM"),IF(AND(AE14="E",AE16>$B$17),TEXT(AE16-$B$17,"HH:MM"),IF(AND(AE14="N",AE16>$B$18),TEXT(AE16-$B$18,"HH:MM"),IF(OR(AE14="O",AE14="A"),"",0))))) -> 0
A12: Early By
A13: OT
A14: Shift | B14: =Entry!B3 -> GS | C14: =Entry!C3 -> GS | D14: =Entry!D3 -> GS | E14: =Entry!E3 -> GS | F14: =Entry!F3 -> GS | G14: =Entry!G3 -> GS | H14: =Entry!H3 -> O | I14: =Entry!I3 -> GS | ... AE14: =Entry!AE3 -> GS
A15: M | B15: 0.33333333
B16: =IF(OR(B14="O",B14="A"),"O ",VALUE(B8)) -> 0.36944444 | C16: =IF(OR(C14="O",C14="A"),"O ",VALUE(C8)) -> 0.37708333 | D16: =IF(OR(D14="O",D14="A"),"O ",VALUE(D8)) -> 0.37847222 | E16: =IF(OR(E14="O",E14="A"),"O ",VALUE(E8)) -> 0.36875 | F16: =IF(OR(F14="O",F14="A"),"O ",VALUE(F8)) -> 0.38125 | G16: =IF(OR(G14="O",G14="A"),"O ",VALUE(G8)) -> 0.37638889 | H16: =IF(OR(H14="O",H14="A"),"O ",VALUE(H8)) -> O | I16: =IF(OR(I14="O",I14="A"),"O ",VALUE(I8)) -> 0.36944444 | ... AE16: =IF(OR(AE14="O",AE14="A"),"O ",VALUE(AE8)) -> 0.36875
A17: E | B17: 0.58333333
A18: N | B18: 0.83333333
A19: GS | B19: 0.375
A20: Late | B20: =IF(OR(B14="O",B14="A"),0,VALUE(B11)) -> 0 | C20: =IF(OR(C14="O",C14="A"),0,VALUE(C11)) -> 0.0020833333 | D20: =IF(OR(D14="O",D14="A"),0,VALUE(D11)) -> 0.0034722222 | E20: =IF(OR(E14="O",E14="A"),0,VALUE(E11)) -> 0 | F20: =IF(OR(F14="O",F14="A"),0,VALUE(F11)) -> 0.00625 | G20: =IF(OR(G14="O",G14="A"),0,VALUE(G11)) -> 0.0013888889 | H20: =IF(OR(H14="O",H14="A"),0,VALUE(H11)) -> 0 | I20: =IF(OR(I14="O",I14="A"),0,VALUE(I11)) -> 0 | ... AE20: =IF(OR(AE14="O",AE14="A"),0,VALUE(AE11)) -> 0 | AG20: =SUM(B20:AE20) -> 0.066666667
B21: =IF(OR(B14="O",B14="A"),0,VALUE(B10)) -> 0.34097222 | C21: =IF(OR(C14="O",C14="A"),0,VALUE(C10)) -> 0.33888889 | D21: =IF(OR(D14="O",D14="A"),0,VALUE(D10)) -> 0.33819444 | E21: =IF(OR(E14="O",E14="A"),0,VALUE(E10)) -> 0.33958333 | F21: =IF(OR(F14="O",F14="A"),0,VALUE(F10)) -> 0.33402778 | G21: =IF(OR(G14="O",G14="A"),0,VALUE(G10)) -> 0.33680556 | H21: =IF(OR(H14="O",H14="A"),0,VALUE(H10)) -> 0 | I21: =IF(OR(I14="O",I14="A"),0,VALUE(I10)) -> 0.34305556 | ... AE21: =IF(OR(AE14="O",AE14="A"),0,VALUE(AE10)) -> 0.34861111 | AG21: =SUM(B21:AE21) -> 8.8006944
A24: =Entry!A4 -> DR. SURAJ SAO | H24: Total Work Duration: | L24: =AG40 -> 8.7527778 | M24: Hrs. | N24: Total OT: | P24: 0 | Q24: Hrs | R24: Present: | T24: =AH26 -> 26 | U24: Absent: | W24: =AH27 -> 0 | X24: WeeklyOff: | Z24: =AH28 -> 4 | AA24: Holidays: 0 Leaves Taken:0
H25: Late By Hrs: | K25: =AG39 -> 0.10416667 | L25: Late By Days: | N25: 0
A26: Status | B26: =IF(B33="M","P",IF(B33="E","P",IF(B33="N","P",IF(B33="GS","P",IF(B33="O","O","A"))))) -> P | C26: =IF(C33="M","P",IF(C33="E","P",IF(C33="N","P",IF(C33="GS","P",IF(C33="O","O","A"))))) -> P | D26: =IF(D33="M","P",IF(D33="E","P",IF(D33="N","P",IF(D33="GS","P",IF(D33="O","O","A"))))) -> P | E26: =IF(E33="M","P",IF(E33="E","P",IF(E33="N","P",IF(E33="GS","P",IF(E33="O","O","A"))))) -> P | F26: =IF(F33="M","P",IF(F33="E","P",IF(F33="N","P",IF(F33="GS","P",IF(F33="O","O","A"))))) -> P | G26: =IF(G33="M","P",IF(G33="E","P",IF(G33="N","P",IF(G33="GS","P",IF(G33="O","O","A"))))) -> P | H26: =IF(H33="M","P",IF(H33="E","P",IF(H33="N","P",IF(H33="GS","P",IF(H33="O","O","A"))))) -> O | I26: =IF(I33="M","P",IF(I33="E","P",IF(I33="N","P",IF(I33="GS","P",IF(I33="O","O","A"))))) -> P | ... AE26: =IF(AE33="M","P",IF(AE33="E","P",IF(AE33="N","P",IF(AE33="GS","P",IF(AE33="O","O","A"))))) -> P | AG26: present | AH26: =COUNTIF(B26:AE26,"P") -> 26
A27: InTime | B27: =IF(B33="M",TEXT(7.8/24+RAND()*(8.3/24-7.8/24),"HH:MM"),(IF(B33="E",TEXT(13.8/24+RAND()*(14.3/24-13.8/24),"HH:MM"),IF(B33="GS",TEXT(8.8/24+RAND()*(9.3/24-8.8/24),"HH:MM"),IF(B33="N",TEXT(19.8/24+RAND()*(20.3/24-19.8/24),"HH:MM"),""))))) -> 09:00 | C27: =IF(C33="M",TEXT(7.8/24+RAND()*(8.3/24-7.8/24),"HH:MM"),(IF(C33="E",TEXT(13.8/24+RAND()*(14.3/24-13.8/24),"HH:MM"),IF(C33="GS",TEXT(8.8/24+RAND()*(9.3/24-8.8/24),"HH:MM"),IF(C33="N",TEXT(19.8/24+RAND()*(20.3/24-19.8/24),"HH:MM"),""))))) -> 09:10 | D27: =IF(D33="M",TEXT(7.8/24+RAND()*(8.3/24-7.8/24),"HH:MM"),(IF(D33="E",TEXT(13.8/24+RAND()*(14.3/24-13.8/24),"HH:MM"),IF(D33="GS",TEXT(8.8/24+RAND()*(9.3/24-8.8/24),"HH:MM"),IF(D33="N",TEXT(19.8/24+RAND()*(20.3/24-19.8/24),"HH:MM"),""))))) -> 09:15 | E27: =IF(E33="M",TEXT(7.8/24+RAND()*(8.3/24-7.8/24),"HH:MM"),(IF(E33="E",TEXT(13.8/24+RAND()*(14.3/24-13.8/24),"HH:MM"),IF(E33="GS",TEXT(8.8/24+RAND()*(9.3/24-8.8/24),"HH:MM"),IF(E33="N",TEXT(19.8/24+RAND()*(20.3/24-19.8/24),"HH:MM"),""))))) -> 09:00 | F27: =IF(F33="M",TEXT(7.8/24+RAND()*(8.3/24-7.8/24),"HH:MM"),(IF(F33="E",TEXT(13.8/24+RAND()*(14.3/24-13.8/24),"HH:MM"),IF(F33="GS",TEXT(8.8/24+RAND()*(9.3/24-8.8/24),"HH:MM"),IF(F33="N",TEXT(19.8/24+RAND()*(20.3/24-19.8/24),"HH:MM"),""))))) -> 09:04 | G27: =IF(G33="M",TEXT(7.8/24+RAND()*(8.3/24-7.8/24),"HH:MM"),(IF(G33="E",TEXT(13.8/24+RAND()*(14.3/24-13.8/24),"HH:MM"),IF(G33="GS",TEXT(8.8/24+RAND()*(9.3/24-8.8/24),"HH:MM"),IF(G33="N",TEXT(19.8/24+RAND()*(20.3/24-19.8/24),"HH:MM"),""))))) -> 09:07 | H27: =IF(H33="M",TEXT(7.8/24+RAND()*(8.3/24-7.8/24),"HH:MM"),(IF(H33="E",TEXT(13.8/24+RAND()*(14.3/24-13.8/24),"HH:MM"),IF(H33="GS",TEXT(8.8/24+RAND()*(9.3/24-8.8/24),"HH:MM"),IF(H33="N",TEXT(19.8/24+RAND()*(20.3/24-19.8/24),"HH:MM"),""))))) | I27: =IF(I33="M",TEXT(7.8/24+RAND()*(8.3/24-7.8/24),"HH:MM"),(IF(I33="E",TEXT(13.8/24+RAND()*(14.3/24-13.8/24),"HH:MM"),IF(I33="GS",TEXT(8.8/24+RAND()*(9.3/24-8.8/24),"HH:MM"),IF(I33="N",TEXT(19.8/24+RAND()*(20.3/24-19.8/24),"HH:MM"),""))))) -> 08:50 | ... AE27: =IF(AE33="M",TEXT(7.8/24+RAND()*(8.3/24-7.8/24),"HH:MM"),(IF(AE33="E",TEXT(13.8/24+RAND()*(14.3/24-13.8/24),"HH:MM"),IF(AE33="GS",TEXT(8.8/24+RAND()*(9.3/24-8.8/24),"HH:MM"),IF(AE33="N",TEXT(19.8/24+RAND()*(20.3/24-19.8/24),"HH:MM"),""))))) -> 09:10 | AG27: absent | AH27: =COUNTIF(B26:AE26,"A") -> 0
A28: OutTime | B28: =IF(B33="M",TEXT(17/24+RAND()*(17.3/24-17/24),"HH:MM"),(IF(B33="E",TEXT(20/24+RAND()*(20.3/24-20/24),"HH:MM"),IF(B33="N",TEXT(8/24+RAND()*(8.3/24-8/24),"HH:MM"),IF(B33="GS",TEXT(17/24+RAND()*(17.3/24-17/24),"HH:MM"),""))))) -> 17:17 | C28: =IF(C33="M",TEXT(17/24+RAND()*(17.3/24-17/24),"HH:MM"),(IF(C33="E",TEXT(20/24+RAND()*(20.3/24-20/24),"HH:MM"),IF(C33="N",TEXT(8/24+RAND()*(8.3/24-8/24),"HH:MM"),IF(C33="GS",TEXT(17/24+RAND()*(17.3/24-17/24),"HH:MM"),""))))) -> 17:03 | D28: =IF(D33="M",TEXT(17/24+RAND()*(17.3/24-17/24),"HH:MM"),(IF(D33="E",TEXT(20/24+RAND()*(20.3/24-20/24),"HH:MM"),IF(D33="N",TEXT(8/24+RAND()*(8.3/24-8/24),"HH:MM"),IF(D33="GS",TEXT(17/24+RAND()*(17.3/24-17/24),"HH:MM"),""))))) -> 17:12 | E28: =IF(E33="M",TEXT(17/24+RAND()*(17.3/24-17/24),"HH:MM"),(IF(E33="E",TEXT(20/24+RAND()*(20.3/24-20/24),"HH:MM"),IF(E33="N",TEXT(8/24+RAND()*(8.3/24-8/24),"HH:MM"),IF(E33="GS",TEXT(17/24+RAND()*(17.3/24-17/24),"HH:MM"),""))))) -> 17:12 | F28: =IF(F33="M",TEXT(17/24+RAND()*(17.3/24-17/24),"HH:MM"),(IF(F33="E",TEXT(20/24+RAND()*(20.3/24-20/24),"HH:MM"),IF(F33="N",TEXT(8/24+RAND()*(8.3/24-8/24),"HH:MM"),IF(F33="GS",TEXT(17/24+RAND()*(17.3/24-17/24),"HH:MM"),""))))) -> 17:14 | G28: =IF(G33="M",TEXT(17/24+RAND()*(17.3/24-17/24),"HH:MM"),(IF(G33="E",TEXT(20/24+RAND()*(20.3/24-20/24),"HH:MM"),IF(G33="N",TEXT(8/24+RAND()*(8.3/24-8/24),"HH:MM"),IF(G33="GS",TEXT(17/24+RAND()*(17.3/24-17/24),"HH:MM"),""))))) -> 17:14 | H28: =IF(H33="M",TEXT(17/24+RAND()*(17.3/24-17/24),"HH:MM"),(IF(H33="E",TEXT(20/24+RAND()*(20.3/24-20/24),"HH:MM"),IF(H33="N",TEXT(8/24+RAND()*(8.3/24-8/24),"HH:MM"),IF(H33="GS",TEXT(17/24+RAND()*(17.3/24-17/24),"HH:MM"),""))))) | I28: =IF(I33="M",TEXT(17/24+RAND()*(17.3/24-17/24),"HH:MM"),(IF(I33="E",TEXT(20/24+RAND()*(20.3/24-20/24),"HH:MM"),IF(I33="N",TEXT(8/24+RAND()*(8.3/24-8/24),"HH:MM"),IF(I33="GS",TEXT(17/24+RAND()*(17.3/24-17/24),"HH:MM"),""))))) -> 17:10 | ... AE28: =IF(AE33="M",TEXT(17/24+RAND()*(17.3/24-17/24),"HH:MM"),(IF(AE33="E",TEXT(20/24+RAND()*(20.3/24-20/24),"HH:MM"),IF(AE33="N",TEXT(8/24+RAND()*(8.3/24-8/24),"HH:MM"),IF(AE33="GS",TEXT(17/24+RAND()*(17.3/24-17/24),"HH:MM"),""))))) -> 17:04 | AG28: WeekOFF | AH28: =COUNTIF(B33:AE33,"O") -> 4
A29: Duration | B29: =IF(B33="M",TEXT(B28-B27,"H:MM"),IF(B33="E",TEXT(B28-B27,"H:MM"),IF(B33="N",TEXT(B28+24-B27+30,"H:MM"),IF(B33="GS",TEXT(B28-B27,"H:MM"),"")))) -> 8:17 | C29: =IF(C33="M",TEXT(C28-C27,"H:MM"),IF(C33="E",TEXT(C28-C27,"H:MM"),IF(C33="N",TEXT(C28+24-C27+30,"H:MM"),IF(C33="GS",TEXT(C28-C27,"H:MM"),"")))) -> 7:53 | D29: =IF(D33="M",TEXT(D28-D27,"H:MM"),IF(D33="E",TEXT(D28-D27,"H:MM"),IF(D33="N",TEXT(D28+24-D27+30,"H:MM"),IF(D33="GS",TEXT(D28-D27,"H:MM"),"")))) -> 7:57 | E29: =IF(E33="M",TEXT(E28-E27,"H:MM"),IF(E33="E",TEXT(E28-E27,"H:MM"),IF(E33="N",TEXT(E28+24-E27+30,"H:MM"),IF(E33="GS",TEXT(E28-E27,"H:MM"),"")))) -> 8:12 | F29: =IF(F33="M",TEXT(F28-F27,"H:MM"),IF(F33="E",TEXT(F28-F27,"H:MM"),IF(F33="N",TEXT(F28+24-F27+30,"H:MM"),IF(F33="GS",TEXT(F28-F27,"H:MM"),"")))) -> 8:10 | G29: =IF(G33="M",TEXT(G28-G27,"H:MM"),IF(G33="E",TEXT(G28-G27,"H:MM"),IF(G33="N",TEXT(G28+24-G27+30,"H:MM"),IF(G33="GS",TEXT(G28-G27,"H:MM"),"")))) -> 8:07 | H29: =IF(H33="M",TEXT(H28-H27,"H:MM"),IF(H33="E",TEXT(H28-H27,"H:MM"),IF(H33="N",TEXT(H28+24-H27+30,"H:MM"),IF(H33="GS",TEXT(H28-H27,"H:MM"),"")))) | I29: =IF(I33="M",TEXT(I28-I27,"H:MM"),IF(I33="E",TEXT(I28-I27,"H:MM"),IF(I33="N",TEXT(I28+24-I27+30,"H:MM"),IF(I33="GS",TEXT(I28-I27,"H:MM"),"")))) -> 8:20 | ... AE29: =IF(AE33="M",TEXT(AE28-AE27,"H:MM"),IF(AE33="E",TEXT(AE28-AE27,"H:MM"),IF(AE33="N",TEXT(AE28+24-AE27+30,"H:MM"),IF(AE33="GS",TEXT(AE28-AE27,"H:MM"),"")))) -> 7:54 | AG29: late by days | AH29: =COUNTIF(B30:AE30,(B30:AE30)>0) -> 0
A30: Late By | B30: =IF(AND(B33="GS",B35>$B$19),TEXT(B35-$B$19,"HH:MM"),IF(AND(B33="M",B35>$B$15),TEXT(B35-$B$15,"HH:MM"),IF(AND(B33="E",B35>$B$17),TEXT(B35-$B$17,"HH:MM"),IF(AND(B33="N",B35>$B$18),TEXT(B35-$B$18,"HH:MM"),IF(OR(B33="O",B33="A"),"",0))))) -> 0 | C30: =IF(AND(C33="GS",C35>$B$19),TEXT(C35-$B$19,"HH:MM"),IF(AND(C33="M",C35>$B$15),TEXT(C35-$B$15,"HH:MM"),IF(AND(C33="E",C35>$B$17),TEXT(C35-$B$17,"HH:MM"),IF(AND(C33="N",C35>$B$18),TEXT(C35-$B$18,"HH:MM"),IF(OR(C33="O",C33="A"),"",0))))) -> 00:10 | D30: =IF(AND(D33="GS",D35>$B$19),TEXT(D35-$B$19,"HH:MM"),IF(AND(D33="M",D35>$B$15),TEXT(D35-$B$15,"HH:MM"),IF(AND(D33="E",D35>$B$17),TEXT(D35-$B$17,"HH:MM"),IF(AND(D33="N",D35>$B$18),TEXT(D35-$B$18,"HH:MM"),IF(OR(D33="O",D33="A"),"",0))))) -> 00:15 | E30: =IF(AND(E33="GS",E35>$B$19),TEXT(E35-$B$19,"HH:MM"),IF(AND(E33="M",E35>$B$15),TEXT(E35-$B$15,"HH:MM"),IF(AND(E33="E",E35>$B$17),TEXT(E35-$B$17,"HH:MM"),IF(AND(E33="N",E35>$B$18),TEXT(E35-$B$18,"HH:MM"),IF(OR(E33="O",E33="A"),"",0))))) -> 0 | F30: =IF(AND(F33="GS",F35>$B$19),TEXT(F35-$B$19,"HH:MM"),IF(AND(F33="M",F35>$B$15),TEXT(F35-$B$15,"HH:MM"),IF(AND(F33="E",F35>$B$17),TEXT(F35-$B$17,"HH:MM"),IF(AND(F33="N",F35>$B$18),TEXT(F35-$B$18,"HH:MM"),IF(OR(F33="O",F33="A"),"",0))))) -> 00:04 | G30: =IF(AND(G33="GS",G35>$B$19),TEXT(G35-$B$19,"HH:MM"),IF(AND(G33="M",G35>$B$15),TEXT(G35-$B$15,"HH:MM"),IF(AND(G33="E",G35>$B$17),TEXT(G35-$B$17,"HH:MM"),IF(AND(G33="N",G35>$B$18),TEXT(G35-$B$18,"HH:MM"),IF(OR(G33="O",G33="A"),"",0))))) -> 00:07 | H30: =IF(AND(H33="GS",H35>$B$19),TEXT(H35-$B$19,"HH:MM"),IF(AND(H33="M",H35>$B$15),TEXT(H35-$B$15,"HH:MM"),IF(AND(H33="E",H35>$B$17),TEXT(H35-$B$17,"HH:MM"),IF(AND(H33="N",H35>$B$18),TEXT(H35-$B$18,"HH:MM"),IF(OR(H33="O",H33="A"),"",0))))) | I30: =IF(AND(I33="GS",I35>$B$19),TEXT(I35-$B$19,"HH:MM"),IF(AND(I33="M",I35>$B$15),TEXT(I35-$B$15,"HH:MM"),IF(AND(I33="E",I35>$B$17),TEXT(I35-$B$17,"HH:MM"),IF(AND(I33="N",I35>$B$18),TEXT(I35-$B$18,"HH:MM"),IF(OR(I33="O",I33="A"),"",0))))) -> 0 | ... AE30: =IF(AND(AE33="GS",AE35>$B$19),TEXT(AE35-$B$19,"HH:MM"),IF(AND(AE33="M",AE35>$B$15),TEXT(AE35-$B$15,"HH:MM"),IF(AND(AE33="E",AE35>$B$17),TEXT(AE35-$B$17,"HH:MM"),IF(AND(AE33="N",AE35>$B$18),TEXT(AE35-$B$18,"HH:MM"),IF(OR(AE33="O",AE33="A"),"",0))))) -> 00:10
A31: Early By
A32: OT
A33: Shift | B33: =Entry!B4 -> GS | C33: =Entry!C4 -> GS | D33: =Entry!D4 -> GS | E33: =Entry!E4 -> GS | F33: =Entry!F4 -> GS | G33: =Entry!G4 -> GS | H33: =Entry!H4 -> O | I33: =Entry!I4 -> GS | ... AE33: =Entry!AE4 -> GS
A34: M | B34: 0.33333333
B35: =IF(OR(B33="O",B33="A"),"O ",VALUE(B27)) -> 0.375 | C35: =IF(OR(C33="O",C33="A"),"O ",VALUE(C27)) -> 0.38194444 | D35: =IF(OR(D33="O",D33="A"),"O ",VALUE(D27)) -> 0.38541667 | E35: =IF(OR(E33="O",E33="A"),"O ",VALUE(E27)) -> 0.375 | F35: =IF(OR(F33="O",F33="A"),"O ",VALUE(F27)) -> 0.37777778 | G35: =IF(OR(G33="O",G33="A"),"O ",VALUE(G27)) -> 0.37986111 | H35: =IF(OR(H33="O",H33="A"),"O ",VALUE(H27)) -> O | I35: =IF(OR(I33="O",I33="A"),"O ",VALUE(I27)) -> 0.36805556 | ... AE35: =IF(OR(AE33="O",AE33="A"),"O ",VALUE(AE27)) -> 0.38194444
A36: E | B36: 0.58333333
A37: N | B37: 0.83333333
A38: GS | B38: 0.375
A39: Late | B39: =IF(OR(B33="O",B33="A"),0,VALUE(B30)) -> 0 | C39: =IF(OR(C33="O",C33="A"),0,VALUE(C30)) -> 0.0069444444 | D39: =IF(OR(D33="O",D33="A"),0,VALUE(D30)) -> 0.010416667 | E39: =IF(OR(E33="O",E33="A"),0,VALUE(E30)) -> 0 | F39: =IF(OR(F33="O",F33="A"),0,VALUE(F30)) -> 0.0027777778 | G39: =IF(OR(G33="O",G33="A"),0,VALUE(G30)) -> 0.0048611111 | H39: =IF(OR(H33="O",H33="A"),0,VALUE(H30)) -> 0 | I39: =IF(OR(I33="O",I33="A"),0,VALUE(I30)) -> 0 | ... AE39: =IF(OR(AE33="O",AE33="A"),0,VALUE(AE30)) -> 0.0069444444 | AG39: =SUM(B39:AE39) -> 0.10416667
B40: =IF(OR(B33="O",B33="A"),0,VALUE(B29)) -> 0.34513889 | C40: =IF(OR(C33="O",C33="A"),0,VALUE(C29)) -> 0.32847222 | D40: =IF(OR(D33="O",D33="A"),0,VALUE(D29)) -> 0.33125 | E40: =IF(OR(E33="O",E33="A"),0,VALUE(E29)) -> 0.34166667 | F40: =IF(OR(F33="O",F33="A"),0,VALUE(F29)) -> 0.34027778 | G40: =IF(OR(G33="O",G33="A"),0,VALUE(G29)) -> 0.33819444 | H40: =IF(OR(H33="O",H33="A"),0,VALUE(H29)) -> 0 | I40: =IF(OR(I33="O",I33="A"),0,VALUE(I29)) -> 0.34722222 | ... AE40: =IF(OR(AE33="O",AE33="A"),0,VALUE(AE29)) -> 0.32916667 | AG40: =SUM(B40:AE40) -> 8.7527778
A45: =Entry!A5 -> DR. PANKAJ VERMA | H45: Total Work Duration: | L45: =AG61 -> 8.6930556 | M45: Hrs. | N45: Total OT: | P45: 0 | Q45: Hrs | R45: Present: | T45: =AH47 -> 26 | U45: Absent: | W45: =AH48 -> 0 | X45: WeeklyOff: | Z45: =AH49 -> 4 | AA45: Holidays: 0 Leaves Taken:0
H46: Late By Hrs: | K46: =AG60 -> 0.14027778 | L46: Late By Days: | N46: 0
A47: Status | B47: =IF(B54="M","P",IF(B54="E","P",IF(B54="N","P",IF(B54="GS","P",IF(B54="O","O","A"))))) -> P | C47: =IF(C54="M","P",IF(C54="E","P",IF(C54="N","P",IF(C54="GS","P",IF(C54="O","O","A"))))) -> P | D47: =IF(D54="M","P",IF(D54="E","P",IF(D54="N","P",IF(D54="GS","P",IF(D54="O","O","A"))))) -> P | E47: =IF(E54="M","P",IF(E54="E","P",IF(E54="N","P",IF(E54="GS","P",IF(E54="O","O","A"))))) -> P | F47: =IF(F54="M","P",IF(F54="E","P",IF(F54="N","P",IF(F54="GS","P",IF(F54="O","O","A"))))) -> P | G47: =IF(G54="M","P",IF(G54="E","P",IF(G54="N","P",IF(G54="GS","P",IF(G54="O","O","A"))))) -> P | H47: =IF(H54="M","P",IF(H54="E","P",IF(H54="N","P",IF(H54="GS","P",IF(H54="O","O","A"))))) -> O | I47: =IF(I54="M","P",IF(I54="E","P",IF(I54="N","P",IF(I54="GS","P",IF(I54="O","O","A"))))) -> P | ... AE47: =IF(AE54="M","P",IF(AE54="E","P",IF(AE54="N","P",IF(AE54="GS","P",IF(AE54="O","O","A"))))) -> P | AG47: present | AH47: =COUNTIF(B47:AE47,"P") -> 26
...
