Workbook

Sheet Entry
A2: Days | B2: 1M | C2: 2T | D2: 3W | E2: 4TH | F2: 5F | G2: 6ST | H2: 7S | I2: 8M | J2: 9T | K2: 10W | L2: 11TH | M2: 12F | N2: 13ST | O2: 14S | P2: 15M | Q2: 16T | R2: 17W | S2: 18TH | T2: 19F | U2: 20ST | V2: 21S | W2: 22M | X2: 23T | Y2: 24W | Z2: 25TH | AA2: 26F | AB2: 27ST | AC2: 28S | AD2: 29M | AE2: 30T
A3: DR. ASHWANI PRADHAN | B3: GS | C3: GS | D3: GS | E3: GS | F3: GS | G3: GS | H3: O | I3: GS | J3: GS | K3: GS | L3: GS | M3: GS | N3: GS | O3: O | P3: GS | Q3: GS | R3: GS | S3: GS | T3: GS | U3: GS | V3: O | W3: GS | X3: GS | Y3: GS | Z3: GS | AA3: GS | AB3: GS | AC3: O | AD3: GS | AE3: GS
A4: DR. SURAJ SAO | B4: GS | C4: GS | D4: GS | E4: GS | F4: GS | G4: GS | H4: O | I4: GS | J4: GS | K4: GS | L4: GS | M4: GS | N4: GS | O4: O | P4: GS | Q4: GS | R4: GS | S4: GS | T4: GS | U4: GS | V4: O | W4: GS | X4: GS | Y4: GS | Z4: GS | AA4: GS | AB4: GS | AC4: O | AD4: GS | AE4: GS
A5: DR. PANKAJ VERMA | B5: GS | C5: GS | D5: GS | E5: GS | F5: GS | G5: GS | H5: O | I5: GS | J5: GS | K5: GS | L5: GS | M5: GS | N5: GS | O5: O | P5: GS | Q5: GS | R5: GS | S5: GS | T5: GS | U5: GS | V5: O | W5: GS | X5: GS | Y5: GS | Z5: GS | AA5: GS | AB5: GS | AC5: O | AD5: GS | AE5: GS
A6: DR. SANJANA DEBNATH | B6: GS | C6: GS | D6: GS | E6: GS | F6: GS | G6: GS | H6: O | I6: GS | J6: GS | K6: GS | L6: GS | M6: GS | N6: GS | O6: O | P6: GS | Q6: GS | R6: GS | S6: GS | T6: GS | U6: GS | V6: O | W6: GS | X6: GS | Y6: GS | Z6: GS | AA6: GS | AB6: GS | AC6: O | AD6: GS | AE6: GS
A7: DR. JAYA SINGH KHARSON | B7: GS | C7: GS | D7: GS | E7: GS | F7: GS | G7: GS | H7: O | I7: GS | J7: GS | K7: GS | L7: GS | M7: GS | N7: GS | O7: O | P7: GS | Q7: GS | R7: GS | S7: GS | T7: GS | U7: GS | V7: O | W7: GS | X7: GS | Y7: GS | Z7: GS | AA7: GS | AB7: GS | AC7: O | AD7: GS | AE7: GS
A8: DR. RAHUL SINGH | B8: GS | C8: GS | D8: GS | E8: GS | F8: GS | G8: GS | H8: O | I8: GS | J8: GS | K8: GS | L8: GS | M8: GS | N8: GS | O8: O | P8: GS | Q8: GS | R8: GS | S8: GS | T8: GS | U8: GS | V8: O | W8: GS | X8: GS | Y8: GS | Z8: GS | AA8: GS | AB8: GS | AC8: O | AD8: GS | AE8: GS
A9: DR. SONIA SINGH | B9: GS | C9: GS | D9: GS | E9: GS | F9: GS | G9: GS | H9: O | I9: GS | J9: GS | K9: GS | L9: GS | M9: GS | N9: GS | O9: O | P9: GS | Q9: GS | R9: GS | S9: GS | T9: GS | U9: GS | V9: O | W9: GS | X9: GS | Y9: GS | Z9: GS | AA9: GS | AB9: GS | AC9: O | AD9: GS | AE9: GS
A10: DR. AKANSHA PURI | B10: GS | C10: GS | D10: GS | E10: GS | F10: GS | G10: GS | H10: O | I10: GS | J10: GS | K10: GS | L10: GS | M10: GS | N10: GS | O10: O | P10: GS | Q10: GS | R10: GS | S10: GS | T10: GS | U10: GS | V10: O | W10: GS | X10: GS | Y10: GS | Z10: GS | AA10: GS | AB10: GS | AC10: O | AD10: GS | AE10: GS
A11: DR. NAMITA PATEL | B11: GS | C11: GS | D11: GS | E11: GS | F11: GS | G11: GS | H11: O | I11: GS | J11: GS | K11: GS | L11: GS | M11: GS | N11: GS | O11: O | P11: GS | Q11: GS | R11: GS | S11: GS | T11: GS | U11: GS | V11: O | W11: GS | X11: GS | Y11: GS | Z11: GS | AA11: GS | AB11: GS | AC11: O | AD11: GS | AE11: GS
A12: DR. VIBHA SEN | B12: GS | C12: GS | D12: GS | E12: GS | F12: GS | G12: GS | H12: O | I12: GS | J12: GS | K12: GS | L12: GS | M12: GS | N12: GS | O12: O | P12: GS | Q12: GS | R12: GS | S12: GS | T12: GS | U12: GS | V12: O | W12: GS | X12: GS | Y12: GS | Z12: GS | AA12: GS | AB12: GS | AC12: O | AD12: GS | AE12: GS
A13: DR. VINITA MAYANK GUPTA | B13: GS | C13: GS | D13: GS | E13: GS | F13: GS | G13: GS | H13: O | I13: GS | J13: GS | K13: GS | L13: GS | M13: GS | N13: GS | O13: O | P13: GS | Q13: GS | R13: GS | S13: GS | T13: GS | U13: GS | V13: O | W13: GS | X13: GS | Y13: GS | Z13: GS | AA13: GS | AB13: GS | AC13: O | AD13: GS | AE13: GS
... A114: Ms. Samari Sarthi | B114: GS | C114: GS | D114: GS | E114: GS | F114: GS | G114: GS | H114: GS | I114: GS | J114: O | K114: GS | L114: GS | M114: GS | N114: GS | O114: GS | P114: GS | Q114: GS | R114: GS | S114: GS | T114: GS | U114: GS | V114: GS | W114: GS | X114: O | Y114: GS | Z114: GS | AA114: GS | AB114: GS | AC114: GS | AD114: GS | AE114: GS

Sheet Main
A1: RAIGARH MEDICAL COLLEGE & HOSPITAL OF AYURVEDA
A3: Days | B3: =Entry!B2 -> 1M | C3: =Entry!C2 -> 2T | D3: =Entry!D2 -> 3W | E3: =Entry!E2 -> 4TH | F3: =Entry!F2 -> 5F | G3: =Entry!G2 -> 6ST | H3: =Entry!H2 -> 7S | I3: =Entry!I2 -> 8M | ... AE3: =Entry!AE2 -> 30T
A4: Department: Default
A5: =Entry!A3 -> DR. ASHWANI PRADHAN | H5: Total Work Duration: | L5: =AG21 -> 8.8006944 | M5: Hrs. | N5: Total OT: | P5: 0 | Q5: Hrs | R5: Present: | T5: =AH7 -> 26 | U5: Absent: | W5: =AH8 -> 0 | X5: WeeklyOff: | Z5: =AH9 -> 4 | AA5: Holidays: 0 Leaves Taken:0
H6: Late By Hrs: | K6: =AG20 -> 0.066666667 | L6: Late By Days: | N6: 0
A7: Status | B7: =IF(B14="M","P",IF(B14="E","P",IF(B14="N","P",IF(B14="GS","P",IF(B14="O","O","A"))))) -> P | C7: =IF(C14="M","P",IF(C14="E","P",IF(C14="N","P",IF(C14="GS","P",IF(C14="O","O","A"))))) -> P | D7: =IF(D14="M","P",IF(D14="E","P",IF(D14="N","P",IF(D14="GS","P",IF(D14="O","O","A"))))) -> P | E7: =IF(E14="M","P",IF(E14="E","P",IF(E14="N","P",IF(E14="GS","P",IF(E14="O","O","A"))))) -> P | F7: =IF(F14="M","P",IF(F14="E","P",IF(F14="N","P",IF(F14="GS","P",IF(F14="O","O","A"))))) -> P | G7: =IF(G14="M","P",IF(G14="E","P",IF(G14="N","P",IF(G14="GS","P",IF(G14="O","O","A"))))) -> P | H7: =IF(H14="M","P",IF(H14="E","P",IF(H14="N","P",IF(H14="GS","P",IF(H14="O","O","A"))))) -> O | I7: =IF(I14="M","P",IF(I14="E","P",IF(I14="N","P",IF(I14="GS","P",IF(I14="O","O","A"))))) -> P | ... AE7: =IF(AE14="M","P",IF(AE14="E","P",IF(AE14="N","P",IF(AE14="GS","P",IF(AE14="O","O","A"))))) -> P | AG7: present | AH7: =COUNTIF(B7:AE7,"P") -> 26
A8: InTime | B8: =IF(B14="M",TEXT(7.8/24+RAND()*(8.3/24-7.8/24),"HH:MM"),(IF(B14="E",TEXT(13.8/24+RAND()*(14.3/24-13.8/24),"HH:MM"),IF(B14="GS",TEXT(8.8/24+RAND()*(9.3/24-8.8/24),"HH:MM"),IF(B14="N",TEXT(19.8/24+RAND()*(20.3/24-19.8/24),"HH:MM"),""))))) -> 08:52 | C8: =IF(C14="M",TEXT(7.8/24+RAND()*(8.3/24-7.8/24),"HH:MM"),(IF(C14="E",TEXT(13.8/24+RAND()*(14.3/24-13.8/24),"HH:MM"),IF(C14="GS",TEXT(8.8/24+RAND()*(9.3/24-8.8/24),"HH:MM"),IF(C14="N",TEXT(19.8/24+RAND()*(20.3/24-19.8/24),"HH:MM"),""))))) -> 09:03 | D8: =IF(D14="M",TEXT(7.8/24+RAND()*(8.3/24-7.8/24),"HH:MM"),(IF(D14="E",TEXT(13.8/24+RAND()*(14.3/24-13.8/24),"HH:MM"),IF(D14="GS",TEXT(8.8/24+RAND()*(9.3/24-8.8/24),"HH:MM"),IF(D14="N",TEXT(19.8/24+RAND()*(20.3/24-19.8/24),"HH:MM"),""))))) -> 09:05 | E8: =IF(E14="M",TEXT(7.8/24+RAND()*(8.3/24-7.8/24),"HH:MM"),(IF(E14="E",TEXT(13.8/24+RAND()*(14.3/24-13.8/24),"HH:MM"),IF(E14="GS",TEXT(8.8/24+RAND()*(9.3/24-8.8/24),"HH:MM"),IF(E14="N",TEXT(19.8/24+RAND()*(20.3/24-19.8/24),"HH:MM"),""))))) -> 08:51 | F8: =IF(F14="M",TEXT(7.8/24+RAND()*(8.3/24-7.8/24),"HH:MM"),(IF(F14="E",TEXT(13.8/24+RAND()*(14.3/24-13.8/24),"HH:MM"),IF(F14="GS",TEXT(8.8/24+RAND()*(9.3/24-8.8/24),"HH:MM"),IF(F14="N",TEXT(19.8/24+RAND()*(20.3/24-19.8/24),"HH:MM"),""))))) -> 09:09 | G8: =IF(G14="M",TEXT(7.8/24+RAND()*(8.3/24-7.8/24),"HH:MM"),(IF(G14="E",TEXT(13.8/24+RAND()*(14.3/24-13.8/24),"HH:MM"),IF(G14="GS",TEXT(8.8/24+RAND()*(9.3/24-8.8/24),"HH:MM"),IF(G14="N",TEXT(19.8/24+RAND()*(20.3/24-19.8/24),"HH:MM"),""))))) -> 09:02 | H8: =IF(H14="M",TEXT(7.8/24+RAND()*(8.3/24-7.8/24),"HH:MM"),(IF(H14="E",TEXT(13.8/24+RAND()*(14.3/24-13.8/24),"HH:MM"),IF(H14="GS",TEXT(8.8/24+RAND()*(9.3/24-8.8/24),"HH:MM"),IF(H14="N",TEXT(19.8/24+RAND()*(20.3/24-19.8/24),"HH:MM"),""))))) | I8: =IF(I14="M",TEXT(7.8/24+RAND()*(8.3/24-7.8/24),"HH:MM"),(IF(I14="E",TEXT(13.8/24+RAND()*(14.3/24-13.8/24),"HH:MM"),IF(I14="GS",TEXT(8.8/24+RAND()*(9.3/24-8.8/24),"HH:MM"),IF(I14="N",TEXT(19.8/24+RAND()*(20.3/24-19.8/24),"HH:MM"),""))))) -> 08:52 | ... AE8: =IF(AE14="M",TEXT(7.8/24+RAND()*(8.3/24-7.8/24),"HH:MM"),(IF(AE14="E",TEXT(13.8/24+RAND()*(14.3/24-13.8/24),"HH:MM"),IF(AE14="GS",TEXT(8.8/24+RAND()*(9.3/24-8.8/24),"HH:MM"),IF(AE14="N",TEXT(19.8/24+RAND()*(20.3/24-19.8/24),"HH:MM"),""))))) -> 08:51 | AG8: absent | AH8: =COUNTIF(B7:AE7,"A") -> 0
A9: OutTime | B9: =IF(B14="M",TEXT(17/24+RAND()*(17.3/24-17/24),"HH:MM"),(IF(B14="E",TEXT(20/24+RAND()*(20.3/24-20/24),"HH:MM"),IF(B14="N",TEXT(8/24+RAND()*(8.3/24-8/24),"HH:MM"),IF(B14="GS",TEXT(17/24+RAND()*(17.3/24-17/24),"HH:MM"),""))))) -> 17:03 | C9: =IF(C14="M",TEXT(17/24+RAND()*(17.3/24-17/24),"HH:MM"),(IF(C14="E",TEXT(20/24+RAND()*(20.3/24-20/24),"HH:MM"),IF(C14="N",TEXT(8/24+RAND()*(8.3/24-8/24),"HH:MM"),IF(C14="GS",TEXT(17/24+RAND()*(17.3/24-17/24),"HH:MM"),""))))) -> 17:11 | D9: =IF(D14="M",TEXT(17/24+RAND()*(17.3/24-17/24),"HH:MM"),(IF(D14="E",TEXT(20/24+RAND()*(20.3/24-20/24),"HH:MM"),IF(D14="N",TEXT(8/24+RAND()*(8.3/24-8/24),"HH:MM"),IF(D14="GS",TEXT(17/24+RAND()*(17.3/24-17/24),"HH:MM"),""))))) -> 17:12 | E9: =IF(E14="M",TEXT(17/24+RAND()*(17.3/24-17/24),"HH:MM"),(IF(E14="E",TEXT(20/24+RAND()*(20.3/24-20/24),"HH:MM"),IF(E14="N",TEXT(8/24+RAND()*(8.3/24-8/24),"HH:MM"),IF(E14="GS",TEXT(17/24+RAND()*(17.3/24-17/24),"HH:MM"),""))))) -> 17:00 | F9: =IF(F14="M",TEXT(17/24+RAND()*(17.3/24-17/24),"HH:MM"),(IF(F14="E",TEXT(20/24+RAND()*(20.3/24-20/24),"HH:MM"),IF(F14="N",TEXT(8/24+RAND()*(8.3/24-8/24),"HH:MM"),IF(F14="GS",TEXT(17/24+RAND()*(17.3/24-17/24),"HH:MM"),""))))) -> 17:10 | G9: =IF(G14="M",TEXT(17/24+RAND()*(17.3/24-17/24),"HH:MM"),(IF(G14="E",TEXT(20/24+RAND()*(20.3/24-20/24),"HH:MM"),IF(G14="N",TEXT(8/24+RAND()*(8.3/24-8/24),"HH:MM"),IF(G14="GS",TEXT(17/24+RAND()*(17.3/24-17/24),"HH:MM"),""))))) -> 17:07 | H9: =IF(H14="M",TEXT(17/24+RAND()*(17.3/24-17/24),"HH:MM"),(IF(H14="E",TEXT(20/24+RAND()*(20.3/24-20/24),"HH:MM"),IF(H14="N",TEXT(8/24+RAND()*(8.3/24-8/24),"HH:MM"),IF(H14="GS",TEXT(17/24+RAND()*(17.3/24-17/24),"HH:MM"),""))))) | I9: =IF(I14="M",TEXT(17/24+RAND()*(17.3/24-17/24),"HH:MM"),(IF(I14="E",TEXT(20/24+RAND()*(20.3/24-20/24),"HH:MM"),IF(I14="N",TEXT(8/24+RAND()*(8.3/24-8/24),"HH:MM"),IF(I14="GS",TEXT(17/24+RAND()*(17.3/24-17/24),"HH:MM"),""))))) -> 17:06 | ... AE9: =IF(AE14="M",TEXT(17/24+RAND()*(17.3/24-17/24),"HH:MM"),(IF(AE14="E",TEXT(20/24+RAND()*(20.3/24-20/24),"HH:MM"),IF(AE14="N",TEXT(8/24+RAND()*(8.3/24-8/24),"HH:MM"),IF(AE14="GS",TEXT(17/24+RAND()*(17.3/24-17/24),"HH:MM"),""))))) -> 17:13 | AG9: WeekOFF | AH9: =COUNTIF(B14:AE14,"O") -> 4
A10: Duration | B10: =IF(B14="M",TEXT(B9-B8,"H:MM"),IF(B14="E",TEXT(B9-B8,"H:MM"),IF(B14="N",TEXT(B9+24-B8+30,"H:MM"),IF(B14="GS",TEXT(B9-B8,"H:MM"),"")))) -> 8:11 | C10: =IF(C14="M",TEXT(C9-C8,"H:MM"),IF(C14="E",TEXT(C9-C8,"H:MM"),IF(C14="N",TEXT(C9+24-C8+30,"H:MM"),IF(C14="GS",TEXT(C9-C8,"H:MM"),"")))) -> 8:08 | D10: =IF(D14="M",TEXT(D9-D8,"H:MM"),IF(D14="E",TEXT(D9-D8,"H:MM"),IF(D14="N",TEXT(D9+24-D8+30,"H:MM"),IF(D14="GS",TEXT(D9-D8,"H:MM"),"")))) -> 8:07 | E10: =IF(E14="M",TEXT(E9-E8,"H:MM"),IF(E14="E",TEXT(E9-E8,"H:MM"),IF(E14="N",TEXT(E9+24-E8+30,"H:MM"),IF(E14="GS",TEXT(E9-E8,"H:MM"),"")))) -> 8:09 | F10: =IF(F14="M",TEXT(F9-F8,"H:MM"),IF(F14="E",TEXT(F9-F8,"H:MM"),IF(F14="N",TEXT(F9+24-F8+30,"H:MM"),IF(F14="GS",TEXT(F9-F8,"H:MM"),"")))) -> 8:01 | G10: =IF(G14="M",TEXT(G9-G8,"H:MM"),IF(G14="E",TEXT(G9-G8,"H:MM"),IF(G14="N",TEXT(G9+24-G8+30,"H:MM"),IF(G14="GS",TEXT(G9-G8,"H:MM"),"")))) -> 8:05 | H10: =IF(H14="M",TEXT(H9-H8,"H:MM"),IF(H14="E",TEXT(H9-H8,"H:MM"),IF(H14="N",TEXT(H9+24-H8+30,"H:MM"),IF(H14="GS",TEXT(H9-H8,"H:MM"),"")))) | I10: =IF(I14="M",TEXT(I9-I8,"H:MM"),IF(I14="E",TEXT(I9-I8,"H:MM"),IF(I14="N",TEXT(I9+24-I8+30,"H:MM"),IF(I14="GS",TEXT(I9-I8,"H:MM"),"")))) -> 8:14 | ... AE10: =IF(AE14="M",TEXT(AE9-AE8,"H:MM"),IF(AE14="E",TEXT(AE9-AE8,"H:MM"),IF(AE14="N",TEXT(AE9+24-AE8+30,"H:MM"),IF(AE14="GS",TEXT(AE9-AE8,"H:MM"),"")))) -> 8:22 | AG10: late by days | AH10: =COUNTIF(B11:AE11,(B11:AE11)>0) -> 0
A11: Late By | B11: =IF(AND(B14="GS",B16>$B$19),TEXT(B16-$B$19,"HH:MM"),IF(AND(B14="M",B16>$B$15),TEXT(B16-$B$15,"HH:MM"),IF(AND(B14="E",B16>$B$17),TEXT(B16-$B$17,"HH:MM"),IF(AND(B14="N",B16>$B$18),TEXT(B16-$B$18,"HH:MM"),IF(OR(B14="O",B14="A"),"",0))))) -> 0 | C11: =IF(AND(C14="GS",C16>$B$19),TEXT(C16-$B$19,"HH:MM"),IF(AND(C14="M",C16>$B$15),TEXT(C16-$B$15,"HH:MM"),IF(AND(C14="E",C16>$B$17),TEXT(C16-$B$17,"HH:MM"),IF(AND(C14="N",C16>$B$18),TEXT(C16-$B$18,"HH:MM"),IF(OR(C14="O",C14="A"),"",0))))) -> 00:03 | D11: =IF(AND(D14="GS",D16>$B$19),TEXT(D16-$B$19,"HH:MM"),IF(AND(D14="M",D16>$B$15),TEXT(D16-$B$15,"HH:MM"),IF(AND(D14="E",D16>$B$17),TEXT(D16-$B$17,"HH:MM"),IF(AND(D14="N",D16>$B$18),TEXT(D16-$B$18,"HH:MM"),IF(OR(D14="O",D14="A"),"",0))))) -> 00:05 | E11: =IF(AND(E14="GS",E16>$B$19),TEXT(E16-$B$19,"HH:MM"),IF(AND(E14="M",E16>$B$15),TEXT(E16-$B$15,"HH:MM"),IF(AND(E14="E",E16>$B$17),TEXT(E16-$B$17,"HH:MM"),IF(AND(E14="N",E16>$B$18),TEXT(E16-$B$18,"HH:MM"),IF(OR(E14="O",E14="A"),"",0))))) -> 0 | F11: =IF(AND(F14="GS",F16>$B$19),TEXT(F16-$B$19,"HH:MM"),IF(AND(F14="M",F16>$B$15),TEXT(F16-$B$15,"HH:MM"),IF(AND(F14="E",F16>$B$17),TEXT(F16-$B$17,"HH:MM"),IF(AND(F14="N",F16>$B$18),TEXT(F16-$B$18,"HH:MM"),IF(OR(F14="O",F14="A"),"",0))))) -> 00:09 | G11: =IF(AND(G14="GS",G16>$B$19),TEXT(G16-$B$19,"HH:MM"),IF(AND(G14="M",G16>$B$15),TEXT(G16-$B$15,"HH:MM"),IF(AND(G14="E",G16>$B$17),TEXT(G16-$B$17,"HH:MM"),IF(AND(G14="N",G16>$B$18),TEXT(G16-$B$18,"HH:MM"),IF(OR(G14="O",G14="A"),"",0))))) -> 00:02 | H11: =IF(AND(H14="GS",H16>$B$19),TEXT(H16-$B$19,"HH:MM"),IF(AND(H14="M",H16>$B$15),TEXT(H16-$B$15,"HH:MM"),IF(AND(H14="E",H16>$B$17),TEXT(H16-$B$17,"HH:MM"),IF(AND(H14="N",H16>$B$18),TEXT(H16-$B$18,"HH:MM"),IF(OR(H14="O",H14="A"),"",0))))) | I11: =IF(AND(I14="GS",I16>$B$19),TEXT(I16-$B$19,"HH:MM"),IF(AND(I14="M",I16>$B$15),TEXT(I16-$B$15,"HH:MM"),IF(AND(I14="E",I16>$B$17),TEXT(I16-$B$17,"HH:MM"),IF(AND(I14="N",I16>$B$18),TEXT(I16-$B$18,"HH:MM"),IF(OR(I14="O",I14="A"),"",0))))) -> 0 | ... AE11: =IF(AND(AE14="GS",AE16>$B$19),TEXT(AE16-$B$19,"HH:MM"),IF(AND(AE14="M",AE16>$B$15),TEXT(AE16-$B$15,"HH:MM"),IF(AND(AE14="E",AE16>$B$17),TEXT(AE16-$B$17,"HH:MM"),IF(AND(AE14="N",AE16>$B$18),TEXT(AE16-$B$18,"HH:MM"),IF(OR(AE14="O",AE14="A"),"",0))))) -> 0
A12: Early By
A13: OT
A14: Shift | B14: =Entry!B3 -> GS | C14: =Entry!C3 -> GS | D14: =Entry!D3 -> GS | E14: =Entry!E3 -> GS | F14: =Entry!F3 -> GS | G14: =Entry!G3 -> GS | H14: =Entry!H3 -> O | I14: =Entry!I3 -> GS | ... AE14: =Entry!AE3 -> GS
A15: M | B15: 0.33333333
B16: =IF(OR(B14="O",B14="A"),"O ",VALUE(B8)) -> 0.36944444 | C16: =IF(OR(C14="O",C14="A"),"O ",VALUE(C8)) -> 0.37708333 | D16: =IF(OR(D14="O",D14="A"),"O ",VALUE(D8)) -> 0.37847222 | E16: =IF(OR(E14="O",E14="A"),"O ",VALUE(E8)) -> 0.36875 | F16: =IF(OR(F14="O",F14="A"),"O ",VALUE(F8)) -> 0.38125 | G16: =IF(OR(G14="O",G14="A"),"O ",VALUE(G8)) -> 0.37638889 | H16: =IF(OR(H14="O",H14="A"),"O ",VALUE(H8)) -> O | I16: =IF(OR(I14="O",I14="A"),"O ",VALUE(I8)) -> 0.36944444 | ... AE16: =IF(OR(AE14="O",AE14="A"),"O ",VALUE(AE8)) -> 0.36875
A17: E | B17: 0.58333333
A18: N | B18: 0.83333333
A19: GS | B19: 0.375
A20: Late | B20: =IF(OR(B14="O",B14="A"),0,VALUE(B11)) -> 0 | C20: =IF(OR(C14="O",C14="A"),0,VALUE(C11)) -> 0.0020833333 | D20: =IF(OR(D14="O",D14="A"),0,VALUE(D11)) -> 0.0034722222 | E20: =IF(OR(E14="O",E14="A"),0,VALUE(E11)) -> 0 | F20: =IF(OR(F14="O",F14="A"),0,VALUE(F11)) -> 0.00625 | G20: =IF(OR(G14="O",G14="A"),0,VALUE(G11)) -> 0.0013888889 | H20: =IF(OR(H14="O",H14="A"),0,VALUE(H11)) -> 0 | I20: =IF(OR(I14="O",I14="A"),0,VALUE(I11)) -> 0 | ... AE20: =IF(OR(AE14="O",AE14="A"),0,VALUE(AE11)) -> 0 | AG20: =SUM(B20:AE20) -> 0.066666667
B21: =IF(OR(B14="O",B14="A"),0,VALUE(B10)) -> 0.34097222 | C21: =IF(OR(C14="O",C14="A"),0,VALUE(C10)) -> 0.33888889 | D21: =IF(OR(D14="O",D14="A"),0,VALUE(D10)) -> 0.33819444 | E21: =IF(OR(E14="O",E14="A"),0,VALUE(E10)) -> 0.33958333 | F21: =IF(OR(F14="O",F14="A"),0,VALUE(F10)) -> 0.33402778 | G21: =IF(OR(G14="O",G14="A"),0,VALUE(G10)) -> 0.33680556 | H21: =IF(OR(H14="O",H14="A"),0,VALUE(H10)) -> 0 | I21: =IF(OR(I14="O",I14="A"),0,VALUE(I10)) -> 0.34305556 | ... AE21: =IF(OR(AE14="O",AE14="A"),0,VALUE(AE10)) -> 0.34861111 | AG21: =SUM(B21:AE21) -> 8.8006944
A24: =Entry!A4 -> DR. SURAJ SAO | H24: Total Work Duration: | L24: =AG40 -> 8.7527778 | M24: Hrs. | N24: Total OT: | P24: 0 | Q24: Hrs | R24: Present: | T24: =AH26 -> 26 | U24: Absent: | W24: =AH27 -> 0 | X24: WeeklyOff: | Z24: =AH28 -> 4 | AA24: Holidays: 0 Leaves Taken:0
H25: Late By Hrs: | K25: =AG39 -> 0.10416667 | L25: Late By Days: | N25: 0
A26: Status | B26: =IF(B33="M","P",IF(B33="E","P",IF(B33="N","P",IF(B33="GS","P",IF(B33="O","O","A"))))) -> P | C26: =IF(C33="M","P",IF(C33="E","P",IF(C33="N","P",IF(C33="GS","P",IF(C33="O","O","A"))))) -> P | D26: =IF(D33="M","P",IF(D33="E","P",IF(D33="N","P",IF(D33="GS","P",IF(D33="O","O","A"))))) -> P | E26: =IF(E33="M","P",IF(E33="E","P",IF(E33="N","P",IF(E33="GS","P",IF(E33="O","O","A"))))) -> P | F26: =IF(F33="M","P",IF(F33="E","P",IF(F33="N","P",IF(F33="GS","P",IF(F33="O","O","A"))))) -> P | G26: =IF(G33="M","P",IF(G33="E","P",IF(G33="N","P",IF(G33="GS","P",IF(G33="O","O","A"))))) -> P | H26: =IF(H33="M","P",IF(H33="E","P",IF(H33="N","P",IF(H33="GS","P",IF(H33="O","O","A"))))) -> O | I26: =IF(I33="M","P",IF(I33="E","P",IF(I33="N","P",IF(I33="GS","P",IF(I33="O","O","A"))))) -> P | ... AE26: =IF(AE33="M","P",IF(AE33="E","P",IF(AE33="N","P",IF(AE33="GS","P",IF(AE33="O","O","A"))))) -> P | AG26: present | AH26: =COUNTIF(B26:AE26,"P") -> 26
A27: InTime | B27: =IF(B33="M",TEXT(7.8/24+RAND()*(8.3/24-7.8/24),"HH:MM"),(IF(B33="E",TEXT(13.8/24+RAND()*(14.3/24-13.8/24),"HH:MM"),IF(B33="GS",TEXT(8.8/24+RAND()*(9.3/24-8.8/24),"HH:MM"),IF(B33="N",TEXT(19.8/24+RAND()*(20.3/24-19.8/24),"HH:MM"),""))))) -> 09:00 | C27: =IF(C33="M",TEXT(7.8/24+RAND()*(8.3/24-7.8/24),"HH:MM"),(IF(C33="E",TEXT(13.8/24+RAND()*(14.3/24-13.8/24),"HH:MM"),IF(C33="GS",TEXT(8.8/24+RAND()*(9.3/24-8.8/24),"HH:MM"),IF(C33="N",TEXT(19.8/24+RAND()*(20.3/24-19.8/24),"HH:MM"),""))))) -> 09:10 | D27: =IF(D33="M",TEXT(7.8/24+RAND()*(8.3/24-7.8/24),"HH:MM"),(IF(D33="E",TEXT(13.8/24+RAND()*(14.3/24-13.8/24),"HH:MM"),IF(D33="GS",TEXT(8.8/24+RAND()*(9.3/24-8.8/24),"HH:MM"),IF(D33="N",TEXT(19.8/24+RAND()*(20.3/24-19.8/24),"HH:MM"),""))))) -> 09:15 | E27: =IF(E33="M",TEXT(7.8/24+RAND()*(8.3/24-7.8/24),"HH:MM"),(IF(E33="E",TEXT(13.8/24+RAND()*(14.3/24-13.8/24),"HH:MM"),IF(E33="GS",TEXT(8.8/24+RAND()*(9.3/24-8.8/24),"HH:MM"),IF(E33="N",TEXT(19.8/24+RAND()*(20.3/24-19.8/24),"HH:MM"),""))))) -> 09:00 | F27: =IF(F33="M",TEXT(7.8/24+RAND()*(8.3/24-7.8/24),"HH:MM"),(IF(F33="E",TEXT(13.8/24+RAND()*(14.3/24-13.8/24),"HH:MM"),IF(F33="GS",TEXT(8.8/24+RAND()*(9.3/24-8.8/24),"HH:MM"),IF(F33="N",TEXT(19.8/24+RAND()*(20.3/24-19.8/24),"HH:MM"),""))))) -> 09:04 | G27: =IF(G33="M",TEXT(7.8/24+RAND()*(8.3/24-7.8/24),"HH:MM"),(IF(G33="E",TEXT(13.8/24+RAND()*(14.3/24-13.8/24),"HH:MM"),IF(G33="GS",TEXT(8.8/24+RAND()*(9.3/24-8.8/24),"HH:MM"),IF(G33="N",TEXT(19.8/24+RAND()*(20.3/24-19.8/24),"HH:MM"),""))))) -> 09:07 | H27: =IF(H33="M",TEXT(7.8/24+RAND()*(8.3/24-7.8/24),"HH:MM"),(IF(H33="E",TEXT(13.8/24+RAND()*(14.3/24-13.8/24),"HH:MM"),IF(H33="GS",TEXT(8.8/24+RAND()*(9.3/24-8.8/24),"HH:MM"),IF(H33="N",TEXT(19.8/24+RAND()*(20.3/24-19.8/24),"HH:MM"),""))))) | I27: =IF(I33="M",TEXT(7.8/24+RAND()*(8.3/24-7.8/24),"HH:MM"),(IF(I33="E",TEXT(13.8/24+RAND()*(14.3/24-13.8/24),"HH:MM"),IF(I33="GS",TEXT(8.8/24+RAND()*(9.3/24-8.8/24),"HH:MM"),IF(I33="N",TEXT(19.8/24+RAND()*(20.3/24-19.8/24),"HH:MM"),""))))) -> 08:50 | ... AE27: =IF(AE33="M",TEXT(7.8/24+RAND()*(8.3/24-7.8/24),"HH:MM"),(IF(AE33="E",TEXT(13.8/24+RAND()*(14.3/24-13.8/24),"HH:MM"),IF(AE33="GS",TEXT(8.8/24+RAND()*(9.3/24-8.8/24),"HH:MM"),IF(AE33="N",TEXT(19.8/24+RAND()*(20.3/24-19.8/24),"HH:MM"),""))))) -> 09:10 | AG27: absent | AH27: =COUNTIF(B26:AE26,"A") -> 0
A28: OutTime | B28: =IF(B33="M",TEXT(17/24+RAND()*(17.3/24-17/24),"HH:MM"),(IF(B33="E",TEXT(20/24+RAND()*(20.3/24-20/24),"HH:MM"),IF(B33="N",TEXT(8/24+RAND()*(8.3/24-8/24),"HH:MM"),IF(B33="GS",TEXT(17/24+RAND()*(17.3/24-17/24),"HH:MM"),""))))) -> 17:17 | C28: =IF(C33="M",TEXT(17/24+RAND()*(17.3/24-17/24),"HH:MM"),(IF(C33="E",TEXT(20/24+RAND()*(20.3/24-20/24),"HH:MM"),IF(C33="N",TEXT(8/24+RAND()*(8.3/24-8/24),"HH:MM"),IF(C33="GS",TEXT(17/24+RAND()*(17.3/24-17/24),"HH:MM"),""))))) -> 17:03 | D28: =IF(D33="M",TEXT(17/24+RAND()*(17.3/24-17/24),"HH:MM"),(IF(D33="E",TEXT(20/24+RAND()*(20.3/24-20/24),"HH:MM"),IF(D33="N",TEXT(8/24+RAND()*(8.3/24-8/24),"HH:MM"),IF(D33="GS",TEXT(17/24+RAND()*(17.3/24-17/24),"HH:MM"),""))))) -> 17:12 | E28: =IF(E33="M",TEXT(17/24+RAND()*(17.3/24-17/24),"HH:MM"),(IF(E33="E",TEXT(20/24+RAND()*(20.3/24-20/24),"HH:MM"),IF(E33="N",TEXT(8/24+RAND()*(8.3/24-8/24),"HH:MM"),IF(E33="GS",TEXT(17/24+RAND()*(17.3/24-17/24),"HH:MM"),""))))) -> 17:12 | F28: =IF(F33="M",TEXT(17/24+RAND()*(17.3/24-17/24),"HH:MM"),(IF(F33="E",TEXT(20/24+RAND()*(20.3/24-20/24),"HH:MM"),IF(F33="N",TEXT(8/24+RAND()*(8.3/24-8/24),"HH:MM"),IF(F33="GS",TEXT(17/24+RAND()*(17.3/24-17/24),"HH:MM"),""))))) -> 17:14 | G28: =IF(G33="M",TEXT(17/24+RAND()*(17.3/24-17/24),"HH:MM"),(IF(G33="E",TEXT(20/24+RAND()*(20.3/24-20/24),"HH:MM"),IF(G33="N",TEXT(8/24+RAND()*(8.3/24-8/24),"HH:MM"),IF(G33="GS",TEXT(17/24+RAND()*(17.3/24-17/24),"HH:MM"),""))))) -> 17:14 | H28: =IF(H33="M",TEXT(17/24+RAND()*(17.3/24-17/24),"HH:MM"),(IF(H33="E",TEXT(20/24+RAND()*(20.3/24-20/24),"HH:MM"),IF(H33="N",TEXT(8/24+RAND()*(8.3/24-8/24),"HH:MM"),IF(H33="GS",TEXT(17/24+RAND()*(17.3/24-17/24),"HH:MM"),""))))) | I28: =IF(I33="M",TEXT(17/24+RAND()*(17.3/24-17/24),"HH:MM"),(IF(I33="E",TEXT(20/24+RAND()*(20.3/24-20/24),"HH:MM"),IF(I33="N",TEXT(8/24+RAND()*(8.3/24-8/24),"HH:MM"),IF(I33="GS",TEXT(17/24+RAND()*(17.3/24-17/24),"HH:MM"),""))))) -> 17:10 | ... AE28: =IF(AE33="M",TEXT(17/24+RAND()*(17.3/24-17/24),"HH:MM"),(IF(AE33="E",TEXT(20/24+RAND()*(20.3/24-20/24),"HH:MM"),IF(AE33="N",TEXT(8/24+RAND()*(8.3/24-8/24),"HH:MM"),IF(AE33="GS",TEXT(17/24+RAND()*(17.3/24-17/24),"HH:MM"),""))))) -> 17:04 | AG28: WeekOFF | AH28: =COUNTIF(B33:AE33,"O") -> 4
A29: Duration | B29: =IF(B33="M",TEXT(B28-B27,"H:MM"),IF(B33="E",TEXT(B28-B27,"H:MM"),IF(B33="N",TEXT(B28+24-B27+30,"H:MM"),IF(B33="GS",TEXT(B28-B27,"H:MM"),"")))) -> 8:17 | C29: =IF(C33="M",TEXT(C28-C27,"H:MM"),IF(C33="E",TEXT(C28-C27,"H:MM"),IF(C33="N",TEXT(C28+24-C27+30,"H:MM"),IF(C33="GS",TEXT(C28-C27,"H:MM"),"")))) -> 7:53 | D29: =IF(D33="M",TEXT(D28-D27,"H:MM"),IF(D33="E",TEXT(D28-D27,"H:MM"),IF(D33="N",TEXT(D28+24-D27+30,"H:MM"),IF(D33="GS",TEXT(D28-D27,"H:MM"),"")))) -> 7:57 | E29: =IF(E33="M",TEXT(E28-E27,"H:MM"),IF(E33="E",TEXT(E28-E27,"H:MM"),IF(E33="N",TEXT(E28+24-E27+30,"H:MM"),IF(E33="GS",TEXT(E28-E27,"H:MM"),"")))) -> 8:12 | F29: =IF(F33="M",TEXT(F28-F27,"H:MM"),IF(F33="E",TEXT(F28-F27,"H:MM"),IF(F33="N",TEXT(F28+24-F27+30,"H:MM"),IF(F33="GS",TEXT(F28-F27,"H:MM"),"")))) -> 8:10 | G29: =IF(G33="M",TEXT(G28-G27,"H:MM"),IF(G33="E",TEXT(G28-G27,"H:MM"),IF(G33="N",TEXT(G28+24-G27+30,"H:MM"),IF(G33="GS",TEXT(G28-G27,"H:MM"),"")))) -> 8:07 | H29: =IF(H33="M",TEXT(H28-H27,"H:MM"),IF(H33="E",TEXT(H28-H27,"H:MM"),IF(H33="N",TEXT(H28+24-H27+30,"H:MM"),IF(H33="GS",TEXT(H28-H27,"H:MM"),"")))) | I29: =IF(I33="M",TEXT(I28-I27,"H:MM"),IF(I33="E",TEXT(I28-I27,"H:MM"),IF(I33="N",TEXT(I28+24-I27+30,"H:MM"),IF(I33="GS",TEXT(I28-I27,"H:MM"),"")))) -> 8:20 | ... AE29: =IF(AE33="M",TEXT(AE28-AE27,"H:MM"),IF(AE33="E",TEXT(AE28-AE27,"H:MM"),IF(AE33="N",TEXT(AE28+24-AE27+30,"H:MM"),IF(AE33="GS",TEXT(AE28-AE27,"H:MM"),"")))) -> 7:54 | AG29: late by days | AH29: =COUNTIF(B30:AE30,(B30:AE30)>0) -> 0
A30: Late By | B30: =IF(AND(B33="GS",B35>$B$19),TEXT(B35-$B$19,"HH:MM"),IF(AND(B33="M",B35>$B$15),TEXT(B35-$B$15,"HH:MM"),IF(AND(B33="E",B35>$B$17),TEXT(B35-$B$17,"HH:MM"),IF(AND(B33="N",B35>$B$18),TEXT(B35-$B$18,"HH:MM"),IF(OR(B33="O",B33="A"),"",0))))) -> 0 | C30: =IF(AND(C33="GS",C35>$B$19),TEXT(C35-$B$19,"HH:MM"),IF(AND(C33="M",C35>$B$15),TEXT(C35-$B$15,"HH:MM"),IF(AND(C33="E",C35>$B$17),TEXT(C35-$B$17,"HH:MM"),IF(AND(C33="N",C35>$B$18),TEXT(C35-$B$18,"HH:MM"),IF(OR(C33="O",C33="A"),"",0))))) -> 00:10 | D30: =IF(AND(D33="GS",D35>$B$19),TEXT(D35-$B$19,"HH:MM"),IF(AND(D33="M",D35>$B$15),TEXT(D35-$B$15,"HH:MM"),IF(AND(D33="E",D35>$B$17),TEXT(D35-$B$17,"HH:MM"),IF(AND(D33="N",D35>$B$18),TEXT(D35-$B$18,"HH:MM"),IF(OR(D33="O",D33="A"),"",0))))) -> 00:15 | E30: =IF(AND(E33="GS",E35>$B$19),TEXT(E35-$B$19,"HH:MM"),IF(AND(E33="M",E35>$B$15),TEXT(E35-$B$15,"HH:MM"),IF(AND(E33="E",E35>$B$17),TEXT(E35-$B$17,"HH:MM"),IF(AND(E33="N",E35>$B$18),TEXT(E35-$B$18,"HH:MM"),IF(OR(E33="O",E33="A"),"",0))))) -> 0 | F30: =IF(AND(F33="GS",F35>$B$19),TEXT(F35-$B$19,"HH:MM"),IF(AND(F33="M",F35>$B$15),TEXT(F35-$B$15,"HH:MM"),IF(AND(F33="E",F35>$B$17),TEXT(F35-$B$17,"HH:MM"),IF(AND(F33="N",F35>$B$18),TEXT(F35-$B$18,"HH:MM"),IF(OR(F33="O",F33="A"),"",0))))) -> 00:04 | G30: =IF(AND(G33="GS",G35>$B$19),TEXT(G35-$B$19,"HH:MM"),IF(AND(G33="M",G35>$B$15),TEXT(G35-$B$15,"HH:MM"),IF(AND(G33="E",G35>$B$17),TEXT(G35-$B$17,"HH:MM"),IF(AND(G33="N",G35>$B$18),TEXT(G35-$B$18,"HH:MM"),IF(OR(G33="O",G33="A"),"",0))))) -> 00:07 | H30: =IF(AND(H33="GS",H35>$B$19),TEXT(H35-$B$19,"HH:MM"),IF(AND(H33="M",H35>$B$15),TEXT(H35-$B$15,"HH:MM"),IF(AND(H33="E",H35>$B$17),TEXT(H35-$B$17,"HH:MM"),IF(AND(H33="N",H35>$B$18),TEXT(H35-$B$18,"HH:MM"),IF(OR(H33="O",H33="A"),"",0))))) | I30: =IF(AND(I33="GS",I35>$B$19),TEXT(I35-$B$19,"HH:MM"),IF(AND(I33="M",I35>$B$15),TEXT(I35-$B$15,"HH:MM"),IF(AND(I33="E",I35>$B$17),TEXT(I35-$B$17,"HH:MM"),IF(AND(I33="N",I35>$B$18),TEXT(I35-$B$18,"HH:MM"),IF(OR(I33="O",I33="A"),"",0))))) -> 0 | ... AE30: =IF(AND(AE33="GS",AE35>$B$19),TEXT(AE35-$B$19,"HH:MM"),IF(AND(AE33="M",AE35>$B$15),TEXT(AE35-$B$15,"HH:MM"),IF(AND(AE33="E",AE35>$B$17),TEXT(AE35-$B$17,"HH:MM"),IF(AND(AE33="N",AE35>$B$18),TEXT(AE35-$B$18,"HH:MM"),IF(OR(AE33="O",AE33="A"),"",0))))) -> 00:10
A31: Early By
A32: OT
A33: Shift | B33: =Entry!B4 -> GS | C33: =Entry!C4 -> GS | D33: =Entry!D4 -> GS | E33: =Entry!E4 -> GS | F33: =Entry!F4 -> GS | G33: =Entry!G4 -> GS | H33: =Entry!H4 -> O | I33: =Entry!I4 -> GS | ... AE33: =Entry!AE4 -> GS
A34: M | B34: 0.33333333
B35: =IF(OR(B33="O",B33="A"),"O ",VALUE(B27)) -> 0.375 | C35: =IF(OR(C33="O",C33="A"),"O ",VALUE(C27)) -> 0.38194444 | D35: =IF(OR(D33="O",D33="A"),"O ",VALUE(D27)) -> 0.38541667 | E35: =IF(OR(E33="O",E33="A"),"O ",VALUE(E27)) -> 0.375 | F35: =IF(OR(F33="O",F33="A"),"O ",VALUE(F27)) -> 0.37777778 | G35: =IF(OR(G33="O",G33="A"),"O ",VALUE(G27)) -> 0.37986111 | H35: =IF(OR(H33="O",H33="A"),"O ",VALUE(H27)) -> O | I35: =IF(OR(I33="O",I33="A"),"O ",VALUE(I27)) -> 0.36805556 | ... AE35: =IF(OR(AE33="O",AE33="A"),"O ",VALUE(AE27)) -> 0.38194444
A36: E | B36: 0.58333333
A37: N | B37: 0.83333333
A38: GS | B38: 0.375
A39: Late | B39: =IF(OR(B33="O",B33="A"),0,VALUE(B30)) -> 0 | C39: =IF(OR(C33="O",C33="A"),0,VALUE(C30)) -> 0.0069444444 | D39: =IF(OR(D33="O",D33="A"),0,VALUE(D30)) -> 0.010416667 | E39: =IF(OR(E33="O",E33="A"),0,VALUE(E30)) -> 0 | F39: =IF(OR(F33="O",F33="A"),0,VALUE(F30)) -> 0.0027777778 | G39: =IF(OR(G33="O",G33="A"),0,VALUE(G30)) -> 0.0048611111 | H39: =IF(OR(H33="O",H33="A"),0,VALUE(H30)) -> 0 | I39: =IF(OR(I33="O",I33="A"),0,VALUE(I30)) -> 0 | ... AE39: =IF(OR(AE33="O",AE33="A"),0,VALUE(AE30)) -> 0.0069444444 | AG39: =SUM(B39:AE39) -> 0.10416667
B40: =IF(OR(B33="O",B33="A"),0,VALUE(B29)) -> 0.34513889 | C40: =IF(OR(C33="O",C33="A"),0,VALUE(C29)) -> 0.32847222 | D40: =IF(OR(D33="O",D33="A"),0,VALUE(D29)) -> 0.33125 | E40: =IF(OR(E33="O",E33="A"),0,VALUE(E29)) -> 0.34166667 | F40: =IF(OR(F33="O",F33="A"),0,VALUE(F29)) -> 0.34027778 | G40: =IF(OR(G33="O",G33="A"),0,VALUE(G29)) -> 0.33819444 | H40: =IF(OR(H33="O",H33="A"),0,VALUE(H29)) -> 0 | I40: =IF(OR(I33="O",I33="A"),0,VALUE(I29)) -> 0.34722222 | ... AE40: =IF(OR(AE33="O",AE33="A"),0,VALUE(AE29)) -> 0.32916667 | AG40: =SUM(B40:AE40) -> 8.7527778
A45: =Entry!A5 -> DR. PANKAJ VERMA | H45: Total Work Duration: | L45: =AG61 -> 8.6930556 | M45: Hrs. | N45: Total OT: | P45: 0 | Q45: Hrs | R45: Present: | T45: =AH47 -> 26 | U45: Absent: | W45: =AH48 -> 0 | X45: WeeklyOff: | Z45: =AH49 -> 4 | AA45: Holidays: 0 Leaves Taken:0
H46: Late By Hrs: | K46: =AG60 -> 0.14027778 | L46: Late By Days: | N46: 0
A47: Status | B47: =IF(B54="M","P",IF(B54="E","P",IF(B54="N","P",IF(B54="GS","P",IF(B54="O","O","A"))))) -> P | C47: =IF(C54="M","P",IF(C54="E","P",IF(C54="N","P",IF(C54="GS","P",IF(C54="O","O","A"))))) -> P | D47: =IF(D54="M","P",IF(D54="E","P",IF(D54="N","P",IF(D54="GS","P",IF(D54="O","O","A"))))) -> P | E47: =IF(E54="M","P",IF(E54="E","P",IF(E54="N","P",IF(E54="GS","P",IF(E54="O","O","A"))))) -> P | F47: =IF(F54="M","P",IF(F54="E","P",IF(F54="N","P",IF(F54="GS","P",IF(F54="O","O","A"))))) -> P | G47: =IF(G54="M","P",IF(G54="E","P",IF(G54="N","P",IF(G54="GS","P",IF(G54="O","O","A"))))) -> P | H47: =IF(H54="M","P",IF(H54="E","P",IF(H54="N","P",IF(H54="GS","P",IF(H54="O","O","A"))))) -> O | I47: =IF(I54="M","P",IF(I54="E","P",IF(I54="N","P",IF(I54="GS","P",IF(I54="O","O","A"))))) -> P | ... AE47: =IF(AE54="M","P",IF(AE54="E","P",IF(AE54="N","P",IF(AE54="GS","P",IF(AE54="O","O","A"))))) -> P | AG47: present | AH47: =COUNTIF(B47:AE47,"P") -> 26
A48: InTime | B48: =IF(B54="M",TEXT(7.8/24+RAND()*(8.3/24-7.8/24),"HH:MM"),(IF(B54="E",TEXT(13.8/24+RAND()*(14.3/24-13.8/24),"HH:MM"),IF(B54="GS",TEXT(8.8/24+RAND()*(9.3/24-8.8/24),"HH:MM"),IF(B54="N",TEXT(19.8/24+RAND()*(20.3/24-19.8/24),"HH:MM"),""))))) -> 09:12 | C48: =IF(C54="M",TEXT(7.8/24+RAND()*(8.3/24-7.8/24),"HH:MM"),(IF(C54="E",TEXT(13.8/24+RAND()*(14.3/24-13.8/24),"HH:MM"),IF(C54="GS",TEXT(8.8/24+RAND()*(9.3/24-8.8/24),"HH:MM"),IF(C54="N",TEXT(19.8/24+RAND()*(20.3/24-19.8/24),"HH:MM"),""))))) -> 09:15 | D48: =IF(D54="M",TEXT(7.8/24+RAND()*(8.3/24-7.8/24),"HH:MM"),(IF(D54="E",TEXT(13.8/24+RAND()*(14.3/24-13.8/24),"HH:MM"),IF(D54="GS",TEXT(8.8/24+RAND()*(9.3/24-8.8/24),"HH:MM"),IF(D54="N",TEXT(19.8/24+RAND()*(20.3/24-19.8/24),"HH:MM"),""))))) -> 09:11 | E48: =IF(E54="M",TEXT(7.8/24+RAND()*(8.3/24-7.8/24),"HH:MM"),(IF(E54="E",TEXT(13.8/24+RAND()*(14.3/24-13.8/24),"HH:MM"),IF(E54="GS",TEXT(8.8/24+RAND()*(9.3/24-8.8/24),"HH:MM"),IF(E54="N",TEXT(19.8/24+RAND()*(20.3/24-19.8/24),"HH:MM"),""))))) -> 09:02 | F48: =IF(F54="M",TEXT(7.8/24+RAND()*(8.3/24-7.8/24),"HH:MM"),(IF(F54="E",TEXT(13.8/24+RAND()*(14.3/24-13.8/24),"HH:MM"),IF(F54="GS",TEXT(8.8/24+RAND()*(9.3/24-8.8/24),"HH:MM"),IF(F54="N",TEXT(19.8/24+RAND()*(20.3/24-19.8/24),"HH:MM"),""))))) -> 08:55 | G48: =IF(G54="M",TEXT(7.8/24+RAND()*(8.3/24-7.8/24),"HH:MM"),(IF(G54="E",TEXT(13.8/24+RAND()*(14.3/24-13.8/24),"HH:MM"),IF(G54="GS",TEXT(8.8/24+RAND()*(9.3/24-8.8/24),"HH:MM"),IF(G54="N",TEXT(19.8/24+RAND()*(20.3/24-19.8/24),"HH:MM"),""))))) -> 08:55 | H48: =IF(H54="M",TEXT(7.8/24+RAND()*(8.3/24-7.8/24),"HH:MM"),(IF(H54="E",TEXT(13.8/24+RAND()*(14.3/24-13.8/24),"HH:MM"),IF(H54="GS",TEXT(8.8/24+RAND()*(9.3/24-8.8/24),"HH:MM"),IF(H54="N",TEXT(19.8/24+RAND()*(20.3/24-19.8/24),"HH:MM"),""))))) | I48: =IF(I54="M",TEXT(7.8/24+RAND()*(8.3/24-7.8/24),"HH:MM"),(IF(I54="E",TEXT(13.8/24+RAND()*(14.3/24-13.8/24),"HH:MM"),IF(I54="GS",TEXT(8.8/24+RAND()*(9.3/24-8.8/24),"HH:MM"),IF(I54="N",TEXT(19.8/24+RAND()*(20.3/24-19.8/24),"HH:MM"),""))))) -> 09:02 | ... AE48: =IF(AE54="M",TEXT(7.8/24+RAND()*(8.3/24-7.8/24),"HH:MM"),(IF(AE54="E",TEXT(13.8/24+RAND()*(14.3/24-13.8/24),"HH:MM"),IF(AE54="GS",TEXT(8.8/24+RAND()*(9.3/24-8.8/24),"HH:MM"),IF(AE54="N",TEXT(19.8/24+RAND()*(20.3/24-19.8/24),"HH:MM"),""))))) -> 09:09 | AG48: absent | AH48: =COUNTIF(B47:AE47,"A") -> 0
A49: OutTime | B49: =IF(B54="M",TEXT(17/24+RAND()*(17.3/24-17/24),"HH:MM"),(IF(B54="E",TEXT(20/24+RAND()*(20.3/24-20/24),"HH:MM"),IF(B54="N",TEXT(8/24+RAND()*(8.3/24-8/24),"HH:MM"),IF(B54="GS",TEXT(17/24+RAND()*(17.3/24-17/24),"HH:MM"),""))))) -> 17:09 | C49: =IF(C54="M",TEXT(17/24+RAND()*(17.3/24-17/24),"HH:MM"),(IF(C54="E",TEXT(20/24+RAND()*(20.3/24-20/24),"HH:MM"),IF(C54="N",TEXT(8/24+RAND()*(8.3/24-8/24),"HH:MM"),IF(C54="GS",TEXT(17/24+RAND()*(17.3/24-17/24),"HH:MM"),""))))) -> 17:03 | D49: =IF(D54="M",TEXT(17/24+RAND()*(17.3/24-17/24),"HH:MM"),(IF(D54="E",TEXT(20/24+RAND()*(20.3/24-20/24),"HH:MM"),IF(D54="N",TEXT(8/24+RAND()*(8.3/24-8/24),"HH:MM"),IF(D54="GS",TEXT(17/24+RAND()*(17.3/24-17/24),"HH:MM"),""))))) -> 17:09 | E49: =IF(E54="M",TEXT(17/24+RAND()*(17.3/24-17/24),"HH:MM"),(IF(E54="E",TEXT(20/24+RAND()*(20.3/24-20/24),"HH:MM"),IF(E54="N",TEXT(8/24+RAND()*(8.3/24-8/24),"HH:MM"),IF(E54="GS",TEXT(17/24+RAND()*(17.3/24-17/24),"HH:MM"),""))))) -> 17:04 | F49: =IF(F54="M",TEXT(17/24+RAND()*(17.3/24-17/24),"HH:MM"),(IF(F54="E",TEXT(20/24+RAND()*(20.3/24-20/24),"HH:MM"),IF(F54="N",TEXT(8/24+RAND()*(8.3/24-8/24),"HH:MM"),IF(F54="GS",TEXT(17/24+RAND()*(17.3/24-17/24),"HH:MM"),""))))) -> 17:09 | G49: =IF(G54="M",TEXT(17/24+RAND()*(17.3/24-17/24),"HH:MM"),(IF(G54="E",TEXT(20/24+RAND()*(20.3/24-20/24),"HH:MM"),IF(G54="N",TEXT(8/24+RAND()*(8.3/24-8/24),"HH:MM"),IF(G54="GS",TEXT(17/24+RAND()*(17.3/24-17/24),"HH:MM"),""))))) -> 17:14 | H49: =IF(H54="M",TEXT(17/24+RAND()*(17.3/24-17/24),"HH:MM"),(IF(H54="E",TEXT(20/24+RAND()*(20.3/24-20/24),"HH:MM"),IF(H54="N",TEXT(8/24+RAND()*(8.3/24-8/24),"HH:MM"),IF(H54="GS",TEXT(17/24+RAND()*(17.3/24-17/24),"HH:MM"),""))))) | I49: =IF(I54="M",TEXT(17/24+RAND()*(17.3/24-17/24),"HH:MM"),(IF(I54="E",TEXT(20/24+RAND()*(20.3/24-20/24),"HH:MM"),IF(I54="N",TEXT(8/24+RAND()*(8.3/24-8/24),"HH:MM"),IF(I54="GS",TEXT(17/24+RAND()*(17.3/24-17/24),"HH:MM"),""))))) -> 17:02 | ... AE49: =IF(AE54="M",TEXT(17/24+RAND()*(17.3/24-17/24),"HH:MM"),(IF(AE54="E",TEXT(20/24+RAND()*(20.3/24-20/24),"HH:MM"),IF(AE54="N",TEXT(8/24+RAND()*(8.3/24-8/24),"HH:MM"),IF(AE54="GS",TEXT(17/24+RAND()*(17.3/24-17/24),"HH:MM"),""))))) -> 17:06 | AG49: WeekOFF | AH49: =COUNTIF(B54:AE54,"O") -> 4
A50: Duration | B50: =IF(B54="M",TEXT(B49-B48,"H:MM"),IF(B54="E",TEXT(B49-B48,"H:MM"),IF(B54="N",TEXT(B49+24-B48+30,"H:MM"),IF(B54="GS",TEXT(B49-B48,"H:MM"),"")))) -> 7:57 | C50: =IF(C54="M",TEXT(C49-C48,"H:MM"),IF(C54="E",TEXT(C49-C48,"H:MM"),IF(C54="N",TEXT(C49+24-C48+30,"H:MM"),IF(C54="GS",TEXT(C49-C48,"H:MM"),"")))) -> 7:48 | D50: =IF(D54="M",TEXT(D49-D48,"H:MM"),IF(D54="E",TEXT(D49-D48,"H:MM"),IF(D54="N",TEXT(D49+24-D48+30,"H:MM"),IF(D54="GS",TEXT(D49-D48,"H:MM"),"")))) -> 7:58 | E50: =IF(E54="M",TEXT(E49-E48,"H:MM"),IF(E54="E",TEXT(E49-E48,"H:MM"),IF(E54="N",TEXT(E49+24-E48+30,"H:MM"),IF(E54="GS",TEXT(E49-E48,"H:MM"),"")))) -> 8:02 | F50: =IF(F54="M",TEXT(F49-F48,"H:MM"),IF(F54="E",TEXT(F49-F48,"H:MM"),IF(F54="N",TEXT(F49+24-F48+30,"H:MM"),IF(F54="GS",TEXT(F49-F48,"H:MM"),"")))) -> 8:14 | G50: =IF(G54="M",TEXT(G49-G48,"H:MM"),IF(G54="E",TEXT(G49-G48,"H:MM"),IF(G54="N",TEXT(G49+24-G48+30,"H:MM"),IF(G54="GS",TEXT(G49-G48,"H:MM"),"")))) -> 8:19 | H50: =IF(H54="M",TEXT(H49-H48,"H:MM"),IF(H54="E",TEXT(H49-H48,"H:MM"),IF(H54="N",TEXT(H49+24-H48+30,"H:MM"),IF(H54="GS",TEXT(H49-H48,"H:MM"),"")))) | I50: =IF(I54="M",TEXT(I49-I48,"H:MM"),IF(I54="E",TEXT(I49-I48,"H:MM"),IF(I54="N",TEXT(I49+24-I48+30,"H:MM"),IF(I54="GS",TEXT(I49-I48,"H:MM"),"")))) -> 8:00 | ... AE50: =IF(AE54="M",TEXT(AE49-AE48,"H:MM"),IF(AE54="E",TEXT(AE49-AE48,"H:MM"),IF(AE54="N",TEXT(AE49+24-AE48+30,"H:MM"),IF(AE54="GS",TEXT(AE49-AE48,"H:MM"),"")))) -> 7:57 | AG50: late by days | AH50: =COUNTIF(B51:AE51,(B51:AE51)>0) -> 0
A51: Late By | B51: =IF(AND(B54="GS",B56>$B$19),TEXT(B56-$B$19,"HH:MM"),IF(AND(B54="M",B56>$B$15),TEXT(B56-$B$15,"HH:MM"),IF(AND(B54="E",B56>$B$17),TEXT(B56-$B$17,"HH:MM"),IF(AND(B54="N",B56>$B$18),TEXT(B56-$B$18,"HH:MM"),IF(OR(B54="O",B54="A"),"",0))))) -> 00:12 | C51: =IF(AND(C54="GS",C56>$B$19),TEXT(C56-$B$19,"HH:MM"),IF(AND(C54="M",C56>$B$15),TEXT(C56-$B$15,"HH:MM"),IF(AND(C54="E",C56>$B$17),TEXT(C56-$B$17,"HH:MM"),IF(AND(C54="N",C56>$B$18),TEXT(C56-$B$18,"HH:MM"),IF(OR(C54="O",C54="A"),"",0))))) -> 00:15 | D51: =IF(AND(D54="GS",D56>$B$19),TEXT(D56-$B$19,"HH:MM"),IF(AND(D54="M",D56>$B$15),TEXT(D56-$B$15,"HH:MM"),IF(AND(D54="E",D56>$B$17),TEXT(D56-$B$17,"HH:MM"),IF(AND(D54="N",D56>$B$18),TEXT(D56-$B$18,"HH:MM"),IF(OR(D54="O",D54="A"),"",0))))) -> 00:11 | E51: =IF(AND(E54="GS",E56>$B$19),TEXT(E56-$B$19,"HH:MM"),IF(AND(E54="M",E56>$B$15),TEXT(E56-$B$15,"HH:MM"),IF(AND(E54="E",E56>$B$17),TEXT(E56-$B$17,"HH:MM"),IF(AND(E54="N",E56>$B$18),TEXT(E56-$B$18,"HH:MM"),IF(OR(E54="O",E54="A"),"",0))))) -> 00:02 | F51: =IF(AND(F54="GS",F56>$B$19),TEXT(F56-$B$19,"HH:MM"),IF(AND(F54="M",F56>$B$15),TEXT(F56-$B$15,"HH:MM"),IF(AND(F54="E",F56>$B$17),TEXT(F56-$B$17,"HH:MM"),IF(AND(F54="N",F56>$B$18),TEXT(F56-$B$18,"HH:MM"),IF(OR(F54="O",F54="A"),"",0))))) -> 0 | G51: =IF(AND(G54="GS",G56>$B$19),TEXT(G56-$B$19,"HH:MM"),IF(AND(G54="M",G56>$B$15),TEXT(G56-$B$15,"HH:MM"),IF(AND(G54="E",G56>$B$17),TEXT(G56-$B$17,"HH:MM"),IF(AND(G54="N",G56>$B$18),TEXT(G56-$B$18,"HH:MM"),IF(OR(G54="O",G54="A"),"",0))))) -> 0 | H51: =IF(AND(H54="GS",H56>$B$19),TEXT(H56-$B$19,"HH:MM"),IF(AND(H54="M",H56>$B$15),TEXT(H56-$B$15,"HH:MM"),IF(AND(H54="E",H56>$B$17),TEXT(H56-$B$17,"HH:MM"),IF(AND(H54="N",H56>$B$18),TEXT(H56-$B$18,"HH:MM"),IF(OR(H54="O",H54="A"),"",0))))) | I51: =IF(AND(I54="GS",I56>$B$19),TEXT(I56-$B$19,"HH:MM"),IF(AND(I54="M",I56>$B$15),TEXT(I56-$B$15,"HH:MM"),IF(AND(I54="E",I56>$B$17),TEXT(I56-$B$17,"HH:MM"),IF(AND(I54="N",I56>$B$18),TEXT(I56-$B$18,"HH:MM"),IF(OR(I54="O",I54="A"),"",0))))) -> 00:02 | ... AE51: =IF(AND(AE54="GS",AE56>$B$19),TEXT(AE56-$B$19,"HH:MM"),IF(AND(AE54="M",AE56>$B$15),TEXT(AE56-$B$15,"HH:MM"),IF(AND(AE54="E",AE56>$B$17),TEXT(AE56-$B$17,"HH:MM"),IF(AND(AE54="N",AE56>$B$18),TEXT(AE56-$B$18,"HH:MM"),IF(OR(AE54="O",AE54="A"),"",0))))) -> 00:09
A52: Early By
A53: OT
A54: Shift | B54: =Entry!B5 -> GS | C54: =Entry!C5 -> GS | D54: =Entry!D5 -> GS | E54: =Entry!E5 -> GS | F54: =Entry!F5 -> GS | G54: =Entry!G5 -> GS | H54: =Entry!H5 -> O | I54: =Entry!I5 -> GS | ... AE54: =Entry!AE5 -> GS
A55: M | B55: 0.33333333
B56: =IF(OR(B54="O",B54="A"),"O ",VALUE(B48)) -> 0.38333333 | C56: =IF(OR(C54="O",C54="A"),"O ",VALUE(C48)) -> 0.38541667 | D56: =IF(OR(D54="O",D54="A"),"O ",VALUE(D48)) -> 0.38263889 | E56: =IF(OR(E54="O",E54="A"),"O ",VALUE(E48)) -> 0.37638889 | F56: =IF(OR(F54="O",F54="A"),"O ",VALUE(F48)) -> 0.37152778 | G56: =IF(OR(G54="O",G54="A"),"O ",VALUE(G48)) -> 0.37152778 | H56: =IF(OR(H54="O",H54="A"),"O ",VALUE(H48)) -> O | I56: =IF(OR(I54="O",I54="A"),"O ",VALUE(I48)) -> 0.37638889 | ... AE56: =IF(OR(AE54="O",AE54="A"),"O ",VALUE(AE48)) -> 0.38125
A57: E | B57: 0.58333333
A58: N | B58: 0.83333333
A59: GS | B59: 0.375
A60: Late | B60: =IF(OR(B54="O",B54="A"),0,VALUE(B51)) -> 0.0083333333 | C60: =IF(OR(C54="O",C54="A"),0,VALUE(C51)) -> 0.010416667 | D60: =IF(OR(D54="O",D54="A"),0,VALUE(D51)) -> 0.0076388889 | E60: =IF(OR(E54="O",E54="A"),0,VALUE(E51)) -> 0.0013888889 | F60: =IF(OR(F54="O",F54="A"),0,VALUE(F51)) -> 0 | G60: =IF(OR(G54="O",G54="A"),0,VALUE(G51)) -> 0 | H60: =IF(OR(H54="O",H54="A"),0,VALUE(H51)) -> 0 | I60: =IF(OR(I54="O",I54="A"),0,VALUE(I51)) -> 0.0013888889 | ... AE60: =IF(OR(AE54="O",AE54="A"),0,VALUE(AE51)) -> 0.00625 | AG60: =SUM(B60:AE60) -> 0.14027778
B61: =IF(OR(B54="O",B54="A"),0,VALUE(B50)) -> 0.33125 | C61: =IF(OR(C54="O",C54="A"),0,VALUE(C50)) -> 0.325 | D61: =IF(OR(D54="O",D54="A"),0,VALUE(D50)) -> 0.33194444 | E61: =IF(OR(E54="O",E54="A"),0,VALUE(E50)) -> 0.33472222 | F61: =IF(OR(F54="O",F54="A"),0,VALUE(F50)) -> 0.34305556 | G61: =IF(OR(G54="O",G54="A"),0,VALUE(G50)) -> 0.34652778 | H61: =IF(OR(H54="O",H54="A"),0,VALUE(H50)) -> 0 | I61: =IF(OR(I54="O",I54="A"),0,VALUE(I50)) -> 0.33333333 | ... AE61: =IF(OR(AE54="O",AE54="A"),0,VALUE(AE50)) -> 0.33125 | AG61: =SUM(B61:AE61) -> 8.6930556
A65: =Entry!A6 -> DR. SANJANA DEBNATH | H65: Total Work Duration: | L65: =AG81 -> 8.7902778 | M65: Hrs. | N65: Total OT: | P65: 0 | Q65: Hrs | R65: Present: | T65: =AH67 -> 26 | U65: Absent: | W65: =AH68 -> 0 | X65: WeeklyOff: | Z65: =AH69 -> 4 | AA65: Holidays: 0 Leaves Taken:0
H66: Late By Hrs: | K66: =AG80 -> 0.077777778 | L66: Late By Days: | N66: 0
A67: Status | B67: =IF(B74="M","P",IF(B74="E","P",IF(B74="N","P",IF(B74="GS","P",IF(B74="O","O","A"))))) -> P | C67: =IF(C74="M","P",IF(C74="E","P",IF(C74="N","P",IF(C74="GS","P",IF(C74="O","O","A"))))) -> P | D67: =IF(D74="M","P",IF(D74="E","P",IF(D74="N","P",IF(D74="GS","P",IF(D74="O","O","A"))))) -> P | E67: =IF(E74="M","P",IF(E74="E","P",IF(E74="N","P",IF(E74="GS","P",IF(E74="O","O","A"))))) -> P | F67: =IF(F74="M","P",IF(F74="E","P",IF(F74="N","P",IF(F74="GS","P",IF(F74="O","O","A"))))) -> P | G67: =IF(G74="M","P",IF(G74="E","P",IF(G74="N","P",IF(G74="GS","P",IF(G74="O","O","A"))))) -> P | H67: =IF(H74="M","P",IF(H74="E","P",IF(H74="N","P",IF(H74="GS","P",IF(H74="O","O","A"))))) -> O | I67: =IF(I74="M","P",IF(I74="E","P",IF(I74="N","P",IF(I74="GS","P",IF(I74="O","O","A"))))) -> P | ... AE67: =IF(AE74="M","P",IF(AE74="E","P",IF(AE74="N","P",IF(AE74="GS","P",IF(AE74="O","O","A"))))) -> P | AG67: present | AH67: =COUNTIF(B67:AE67,"P") -> 26
A68: InTime | B68: =IF(B74="M",TEXT(7.8/24+RAND()*(8.3/24-7.8/24),"HH:MM"),(IF(B74="E",TEXT(13.8/24+RAND()*(14.3/24-13.8/24),"HH:MM"),IF(B74="GS",TEXT(8.8/24+RAND()*(9.3/24-8.8/24),"HH:MM"),IF(B74="N",TEXT(19.8/24+RAND()*(20.3/24-19.8/24),"HH:MM"),""))))) -> 08:48 | C68: =IF(C74="M",TEXT(7.8/24+RAND()*(8.3/24-7.8/24),"HH:MM"),(IF(C74="E",TEXT(13.8/24+RAND()*(14.3/24-13.8/24),"HH:MM"),IF(C74="GS",TEXT(8.8/24+RAND()*(9.3/24-8.8/24),"HH:MM"),IF(C74="N",TEXT(19.8/24+RAND()*(20.3/24-19.8/24),"HH:MM"),""))))) -> 09:05 | D68: =IF(D74="M",TEXT(7.8/24+RAND()*(8.3/24-7.8/24),"HH:MM"),(IF(D74="E",TEXT(13.8/24+RAND()*(14.3/24-13.8/24),"HH:MM"),IF(D74="GS",TEXT(8.8/24+RAND()*(9.3/24-8.8/24),"HH:MM"),IF(D74="N",TEXT(19.8/24+RAND()*(20.3/24-19.8/24),"HH:MM"),""))))) -> 09:15 | E68: =IF(E74="M",TEXT(7.8/24+RAND()*(8.3/24-7.8/24),"HH:MM"),(IF(E74="E",TEXT(13.8/24+RAND()*(14.3/24-13.8/24),"HH:MM"),IF(E74="GS",TEXT(8.8/24+RAND()*(9.3/24-8.8/24),"HH:MM"),IF(E74="N",TEXT(19.8/24+RAND()*(20.3/24-19.8/24),"HH:MM"),""))))) -> 09:14 | F68: =IF(F74="M",TEXT(7.8/24+RAND()*(8.3/24-7.8/24),"HH:MM"),(IF(F74="E",TEXT(13.8/24+RAND()*(14.3/24-13.8/24),"HH:MM"),IF(F74="GS",TEXT(8.8/24+RAND()*(9.3/24-8.8/24),"HH:MM"),IF(F74="N",TEXT(19.8/24+RAND()*(20.3/24-19.8/24),"HH:MM"),""))))) -> 08:49 | G68: =IF(G74="M",TEXT(7.8/24+RAND()*(8.3/24-7.8/24),"HH:MM"),(IF(G74="E",TEXT(13.8/24+RAND()*(14.3/24-13.8/24),"HH:MM"),IF(G74="GS",TEXT(8.8/24+RAND()*(9.3/24-8.8/24),"HH:MM"),IF(G74="N",TEXT(19.8/24+RAND()*(20.3/24-19.8/24),"HH:MM"),""))))) -> 08:54 | H68: =IF(H74="M",TEXT(7.8/24+RAND()*(8.3/24-7.8/24),"HH:MM"),(IF(H74="E",TEXT(13.8/24+RAND()*(14.3/24-13.8/24),"HH:MM"),IF(H74="GS",TEXT(8.8/24+RAND()*(9.3/24-8.8/24),"HH:MM"),IF(H74="N",TEXT(19.8/24+RAND()*(20.3/24-19.8/24),"HH:MM"),""))))) | I68: =IF(I74="M",TEXT(7.8/24+RAND()*(8.3/24-7.8/24),"HH:MM"),(IF(I74="E",TEXT(13.8/24+RAND()*(14.3/24-13.8/24),"HH:MM"),IF(I74="GS",TEXT(8.8/24+RAND()*(9.3/24-8.8/24),"HH:MM"),IF(I74="N",TEXT(19.8/24+RAND()*(20.3/24-19.8/24),"HH:MM"),""))))) -> 09:05 | ... AE68: =IF(AE74="M",TEXT(7.8/24+RAND()*(8.3/24-7.8/24),"HH:MM"),(IF(AE74="E",TEXT(13.8/24+RAND()*(14.3/24-13.8/24),"HH:MM"),IF(AE74="GS",TEXT(8.8/24+RAND()*(9.3/24-8.8/24),"HH:MM"),IF(AE74="N",TEXT(19.8/24+RAND()*(20.3/24-19.8/24),"HH:MM"),""))))) -> 09:07 | AG68: absent | AH68: =COUNTIF(B67:AE67,"A") -> 0
A69: OutTime | B69: =IF(B74="M",TEXT(17/24+RAND()*(17.3/24-17/24),"HH:MM"),(IF(B74="E",TEXT(20/24+RAND()*(20.3/24-20/24),"HH:MM"),IF(B74="N",TEXT(8/24+RAND()*(8.3/24-8/24),"HH:MM"),IF(B74="GS",TEXT(17/24+RAND()*(17.3/24-17/24),"HH:MM"),""))))) -> 17:04 | C69: =IF(C74="M",TEXT(17/24+RAND()*(17.3/24-17/24),"HH:MM"),(IF(C74="E",TEXT(20/24+RAND()*(20.3/24-20/24),"HH:MM"),IF(C74="N",TEXT(8/24+RAND()*(8.3/24-8/24),"HH:MM"),IF(C74="GS",TEXT(17/24+RAND()*(17.3/24-17/24),"HH:MM"),""))))) -> 17:10 | D69: =IF(D74="M",TEXT(17/24+RAND()*(17.3/24-17/24),"HH:MM"),(IF(D74="E",TEXT(20/24+RAND()*(20.3/24-20/24),"HH:MM"),IF(D74="N",TEXT(8/24+RAND()*(8.3/24-8/24),"HH:MM"),IF(D74="GS",TEXT(17/24+RAND()*(17.3/24-17/24),"HH:MM"),""))))) -> 17:06 | E69: =IF(E74="M",TEXT(17/24+RAND()*(17.3/24-17/24),"HH:MM"),(IF(E74="E",TEXT(20/24+RAND()*(20.3/24-20/24),"HH:MM"),IF(E74="N",TEXT(8/24+RAND()*(8.3/24-8/24),"HH:MM"),IF(E74="GS",TEXT(17/24+RAND()*(17.3/24-17/24),"HH:MM"),""))))) -> 17:09 | F69: =IF(F74="M",TEXT(17/24+RAND()*(17.3/24-17/24),"HH:MM"),(IF(F74="E",TEXT(20/24+RAND()*(20.3/24-20/24),"HH:MM"),IF(F74="N",TEXT(8/24+RAND()*(8.3/24-8/24),"HH:MM"),IF(F74="GS",TEXT(17/24+RAND()*(17.3/24-17/24),"HH:MM"),""))))) -> 17:13 | G69: =IF(G74="M",TEXT(17/24+RAND()*(17.3/24-17/24),"HH:MM"),(IF(G74="E",TEXT(20/24+RAND()*(20.3/24-20/24),"HH:MM"),IF(G74="N",TEXT(8/24+RAND()*(8.3/24-8/24),"HH:MM"),IF(G74="GS",TEXT(17/24+RAND()*(17.3/24-17/24),"HH:MM"),""))))) -> 17:12 | H69: =IF(H74="M",TEXT(17/24+RAND()*(17.3/24-17/24),"HH:MM"),(IF(H74="E",TEXT(20/24+RAND()*(20.3/24-20/24),"HH:MM"),IF(H74="N",TEXT(8/24+RAND()*(8.3/24-8/24),"HH:MM"),IF(H74="GS",TEXT(17/24+RAND()*(17.3/24-17/24),"HH:MM"),""))))) | I69: =IF(I74="M",TEXT(17/24+RAND()*(17.3/24-17/24),"HH:MM"),(IF(I74="E",TEXT(20/24+RAND()*(20.3/24-20/24),"HH:MM"),IF(I74="N",TEXT(8/24+RAND()*(8.3/24-8/24),"HH:MM"),IF(I74="GS",TEXT(17/24+RAND()*(17.3/24-17/24),"HH:MM"),""))))) -> 17:15 | ... AE69: =IF(AE74="M",TEXT(17/24+RAND()*(17.3/24-17/24),"HH:MM"),(IF(AE74="E",TEXT(20/24+RAND()*(20.3/24-20/24),"HH:MM"),IF(AE74="N",TEXT(8/24+RAND()*(8.3/24-8/24),"HH:MM"),IF(AE74="GS",TEXT(17/24+RAND()*(17.3/24-17/24),"HH:MM"),""))))) -> 17:05 | AG69: WeekOFF | AH69: =COUNTIF(B74:AE74,"O") -> 4
A70: Duration | B70: =IF(B74="M",TEXT(B69-B68,"H:MM"),IF(B74="E",TEXT(B69-B68,"H:MM"),IF(B74="N",TEXT(B69+24-B68+30,"H:MM"),IF(B74="GS",TEXT(B69-B68,"H:MM"),"")))) -> 8:16 | C70: =IF(C74="M",TEXT(C69-C68,"H:MM"),IF(C74="E",TEXT(C69-C68,"H:MM"),IF(C74="N",TEXT(C69+24-C68+30,"H:MM"),IF(C74="GS",TEXT(C69-C68,"H:MM"),"")))) -> 8:05 | D70: =IF(D74="M",TEXT(D69-D68,"H:MM"),IF(D74="E",TEXT(D69-D68,"H:MM"),IF(D74="N",TEXT(D69+24-D68+30,"H:MM"),IF(D74="GS",TEXT(D69-D68,"H:MM"),"")))) -> 7:51 | E70: =IF(E74="M",TEXT(E69-E68,"H:MM"),IF(E74="E",TEXT(E69-E68,"H:MM"),IF(E74="N",TEXT(E69+24-E68+30,"H:MM"),IF(E74="GS",TEXT(E69-E68,"H:MM"),"")))) -> 7:55 | F70: =IF(F74="M",TEXT(F69-F68,"H:MM"),IF(F74="E",TEXT(F69-F68,"H:MM"),IF(F74="N",TEXT(F69+24-F68+30,"H:MM"),IF(F74="GS",TEXT(F69-F68,"H:MM"),"")))) -> 8:24 | G70: =IF(G74="M",TEXT(G69-G68,"H:MM"),IF(G74="E",TEXT(G69-G68,"H:MM"),IF(G74="N",TEXT(G69+24-G68+30,"H:MM"),IF(G74="GS",TEXT(G69-G68,"H:MM"),"")))) -> 8:18 | H70: =IF(H74="M",TEXT(H69-H68,"H:MM"),IF(H74="E",TEXT(H69-H68,"H:MM"),IF(H74="N",TEXT(H69+24-H68+30,"H:MM"),IF(H74="GS",TEXT(H69-H68,"H:MM"),"")))) | I70: =IF(I74="M",TEXT(I69-I68,"H:MM"),IF(I74="E",TEXT(I69-I68,"H:MM"),IF(I74="N",TEXT(I69+24-I68+30,"H:MM"),IF(I74="GS",TEXT(I69-I68,"H:MM"),"")))) -> 8:10 | ... AE70: =IF(AE74="M",TEXT(AE69-AE68,"H:MM"),IF(AE74="E",TEXT(AE69-AE68,"H:MM"),IF(AE74="N",TEXT(AE69+24-AE68+30,"H:MM"),IF(AE74="GS",TEXT(AE69-AE68,"H:MM"),"")))) -> 7:58 | AG70: late by days | AH70: =COUNTIF(B71:AE71,(B71:AE71)>0) -> 0
A71: Late By | B71: =IF(AND(B74="GS",B76>$B$19),TEXT(B76-$B$19,"HH:MM"),IF(AND(B74="M",B76>$B$15),TEXT(B76-$B$15,"HH:MM"),IF(AND(B74="E",B76>$B$17),TEXT(B76-$B$17,"HH:MM"),IF(AND(B74="N",B76>$B$18),TEXT(B76-$B$18,"HH:MM"),IF(OR(B74="O",B74="A"),"",0))))) -> 0 | C71: =IF(AND(C74="GS",C76>$B$19),TEXT(C76-$B$19,"HH:MM"),IF(AND(C74="M",C76>$B$15),TEXT(C76-$B$15,"HH:MM"),IF(AND(C74="E",C76>$B$17),TEXT(C76-$B$17,"HH:MM"),IF(AND(C74="N",C76>$B$18),TEXT(C76-$B$18,"HH:MM"),IF(OR(C74="O",C74="A"),"",0))))) -> 00:05 | D71: =IF(AND(D74="GS",D76>$B$19),TEXT(D76-$B$19,"HH:MM"),IF(AND(D74="M",D76>$B$15),TEXT(D76-$B$15,"HH:MM"),IF(AND(D74="E",D76>$B$17),TEXT(D76-$B$17,"HH:MM"),IF(AND(D74="N",D76>$B$18),TEXT(D76-$B$18,"HH:MM"),IF(OR(D74="O",D74="A"),"",0))))) -> 00:15 | E71: =IF(AND(E74="GS",E76>$B$19),TEXT(E76-$B$19,"HH:MM"),IF(AND(E74="M",E76>$B$15),TEXT(E76-$B$15,"HH:MM"),IF(AND(E74="E",E76>$B$17),TEXT(E76-$B$17,"HH:MM"),IF(AND(E74="N",E76>$B$18),TEXT(E76-$B$18,"HH:MM"),IF(OR(E74="O",E74="A"),"",0))))) -> 00:14 | F71: =IF(AND(F74="GS",F76>$B$19),TEXT(F76-$B$19,"HH:MM"),IF(AND(F74="M",F76>$B$15),TEXT(F76-$B$15,"HH:MM"),IF(AND(F74="E",F76>$B$17),TEXT(F76-$B$17,"HH:MM"),IF(AND(F74="N",F76>$B$18),TEXT(F76-$B$18,"HH:MM"),IF(OR(F74="O",F74="A"),"",0))))) -> 0 | G71: =IF(AND(G74="GS",G76>$B$19),TEXT(G76-$B$19,"HH:MM"),IF(AND(G74="M",G76>$B$15),TEXT(G76-$B$15,"HH:MM"),IF(AND(G74="E",G76>$B$17),TEXT(G76-$B$17,"HH:MM"),IF(AND(G74="N",G76>$B$18),TEXT(G76-$B$18,"HH:MM"),IF(OR(G74="O",G74="A"),"",0))))) -> 0 | H71: =IF(AND(H74="GS",H76>$B$19),TEXT(H76-$B$19,"HH:MM"),IF(AND(H74="M",H76>$B$15),TEXT(H76-$B$15,"HH:MM"),IF(AND(H74="E",H76>$B$17),TEXT(H76-$B$17,"HH:MM"),IF(AND(H74="N",H76>$B$18),TEXT(H76-$B$18,"HH:MM"),IF(OR(H74="O",H74="A"),"",0))))) | I71: =IF(AND(I74="GS",I76>$B$19),TEXT(I76-$B$19,"HH:MM"),IF(AND(I74="M",I76>$B$15),TEXT(I76-$B$15,"HH:MM"),IF(AND(I74="E",I76>$B$17),TEXT(I76-$B$17,"HH:MM"),IF(AND(I74="N",I76>$B$18),TEXT(I76-$B$18,"HH:MM"),IF(OR(I74="O",I74="A"),"",0))))) -> 00:05 | ... AE71: =IF(AND(AE74="GS",AE76>$B$19),TEXT(AE76-$B$19,"HH:MM"),IF(AND(AE74="M",AE76>$B$15),TEXT(AE76-$B$15,"HH:MM"),IF(AND(AE74="E",AE76>$B$17),TEXT(AE76-$B$17,"HH:MM"),IF(AND(AE74="N",AE76>$B$18),TEXT(AE76-$B$18,"HH:MM"),IF(OR(AE74="O",AE74="A"),"",0))))) -> 00:07
A72: Early By
A73: OT
A74: Shift | B74: =Entry!B6 -> GS | C74: =Entry!C6 -> GS | D74: =Entry!D6 -> GS | E74: =Entry!E6 -> GS | F74: =Entry!F6 -> GS | G74: =Entry!G6 -> GS | H74: =Entry!H6 -> O | I74: =Entry!I6 -> GS | ... AE74: =Entry!AE6 -> GS
A75: M | B75: 0.33333333
B76: =IF(OR(B74="O",B74="A"),"O ",VALUE(B68)) -> 0.36666667 | C76: =IF(OR(C74="O",C74="A"),"O ",VALUE(C68)) -> 0.37847222 | D76: =IF(OR(D74="O",D74="A"),"O ",VALUE(D68)) -> 0.38541667 | E76: =IF(OR(E74="O",E74="A"),"O ",VALUE(E68)) -> 0.38472222 | F76: =IF(OR(F74="O",F74="A"),"O ",VALUE(F68)) -> 0.36736111 | G76: =IF(OR(G74="O",G74="A"),"O ",VALUE(G68)) -> 0.37083333 | H76: =IF(OR(H74="O",H74="A"),"O ",VALUE(H68)) -> O | I76: =IF(OR(I74="O",I74="A"),"O ",VALUE(I68)) -> 0.37847222 | ... AE76: =IF(OR(AE74="O",AE74="A"),"O ",VALUE(AE68)) -> 0.37986111
A77: E | B77: 0.58333333
A78: N | B78: 0.83333333
A79: GS | B79: 0.375
A80: Late | B80: =IF(OR(B74="O",B74="A"),0,VALUE(B71)) -> 0 | C80: =IF(OR(C74="O",C74="A"),0,VALUE(C71)) -> 0.0034722222 | D80: =IF(OR(D74="O",D74="A"),0,VALUE(D71)) -> 0.010416667 | E80: =IF(OR(E74="O",E74="A"),0,VALUE(E71)) -> 0.0097222222 | F80: =IF(OR(F74="O",F74="A"),0,VALUE(F71)) -> 0 | G80: =IF(OR(G74="O",G74="A"),0,VALUE(G71)) -> 0 | H80: =IF(OR(H74="O",H74="A"),0,VALUE(H71)) -> 0 | I80: =IF(OR(I74="O",I74="A"),0,VALUE(I71)) -> 0.0034722222 | ... AE80: =IF(OR(AE74="O",AE74="A"),0,VALUE(AE71)) -> 0.0048611111 | AG80: =SUM(B80:AE80) -> 0.077777778
B81: =IF(OR(B74="O",B74="A"),0,VALUE(B70)) -> 0.34444444 | C81: =IF(OR(C74="O",C74="A"),0,VALUE(C70)) -> 0.33680556 | D81: =IF(OR(D74="O",D74="A"),0,VALUE(D70)) -> 0.32708333 | E81: =IF(OR(E74="O",E74="A"),0,VALUE(E70)) -> 0.32986111 | F81: =IF(OR(F74="O",F74="A"),0,VALUE(F70)) -> 0.35 | G81: =IF(OR(G74="O",G74="A"),0,VALUE(G70)) -> 0.34583333 | H81: =IF(OR(H74="O",H74="A"),0,VALUE(H70)) -> 0 | I81: =IF(OR(I74="O",I74="A"),0,VALUE(I70)) -> 0.34027778 | ... AE81: =IF(OR(AE74="O",AE74="A"),0,VALUE(AE70)) -> 0.33194444 | AG81: =SUM(B81:AE81) -> 8.7902778
A85: =Entry!A7 -> DR. JAYA SINGH KHARSON | H85: Total Work Duration: | L85: =AG101 -> 8.7576389 | M85: Hrs. | N85: Total OT: | P85: 0 | Q85: Hrs | R85: Present: | T85: =AH87 -> 26 | U85: Absent: | W85: =AH88 -> 0 | X85: WeeklyOff: | Z85: =AH89 -> 4 | AA85: Holidays: 0 Leaves Taken:0
H86: Late By Hrs: | K86: =AG100 -> 0.095833333 | L86: Late By Days: | N86: 0
A87: Status | B87: =IF(B94="M","P",IF(B94="E","P",IF(B94="N","P",IF(B94="GS","P",IF(B94="O","O","A"))))) -> P | C87: =IF(C94="M","P",IF(C94="E","P",IF(C94="N","P",IF(C94="GS","P",IF(C94="O","O","A"))))) -> P | D87: =IF(D94="M","P",IF(D94="E","P",IF(D94="N","P",IF(D94="GS","P",IF(D94="O","O","A"))))) -> P | E87: =IF(E94="M","P",IF(E94="E","P",IF(E94="N","P",IF(E94="GS","P",IF(E94="O","O","A"))))) -> P | F87: =IF(F94="M","P",IF(F94="E","P",IF(F94="N","P",IF(F94="GS","P",IF(F94="O","O","A"))))) -> P | G87: =IF(G94="M","P",IF(G94="E","P",IF(G94="N","P",IF(G94="GS","P",IF(G94="O","O","A"))))) -> P | H87: =IF(H94="M","P",IF(H94="E","P",IF(H94="N","P",IF(H94="GS","P",IF(H94="O","O","A"))))) -> O | I87: =IF(I94="M","P",IF(I94="E","P",IF(I94="N","P",IF(I94="GS","P",IF(I94="O","O","A"))))) -> P | ... AE87: =IF(AE94="M","P",IF(AE94="E","P",IF(AE94="N","P",IF(AE94="GS","P",IF(AE94="O","O","A"))))) -> P | AG87: present | AH87: =COUNTIF(B87:AE87,"P") -> 26
A88: InTime | B88: =IF(B94="M",TEXT(7.8/24+RAND()*(8.3/24-7.8/24),"HH:MM"),(IF(B94="E",TEXT(13.8/24+RAND()*(14.3/24-13.8/24),"HH:MM"),IF(B94="GS",TEXT(8.8/24+RAND()*(9.3/24-8.8/24),"HH:MM"),IF(B94="N",TEXT(19.8/24+RAND()*(20.3/24-19.8/24),"HH:MM"),""))))) -> 09:10 | C88: =IF(C94="M",TEXT(7.8/24+RAND()*(8.3/24-7.8/24),"HH:MM"),(IF(C94="E",TEXT(13.8/24+RAND()*(14.3/24-13.8/24),"HH:MM"),IF(C94="GS",TEXT(8.8/24+RAND()*(9.3/24-8.8/24),"HH:MM"),IF(C94="N",TEXT(19.8/24+RAND()*(20.3/24-19.8/24),"HH:MM"),""))))) -> 08:52 | D88: =IF(D94="M",TEXT(7.8/24+RAND()*(8.3/24-7.8/24),"HH:MM"),(IF(D94="E",TEXT(13.8/24+RAND()*(14.3/24-13.8/24),"HH:MM"),IF(D94="GS",TEXT(8.8/24+RAND()*(9.3/24-8.8/24),"HH:MM"),IF(D94="N",TEXT(19.8/24+RAND()*(20.3/24-19.8/24),"HH:MM"),""))))) -> 08:55 | E88: =IF(E94="M",TEXT(7.8/24+RAND()*(8.3/24-7.8/24),"HH:MM"),(IF(E94="E",TEXT(13.8/24+RAND()*(14.3/24-13.8/24),"HH:MM"),IF(E94="GS",TEXT(8.8/24+RAND()*(9.3/24-8.8/24),"HH:MM"),IF(E94="N",TEXT(19.8/24+RAND()*(20.3/24-19.8/24),"HH:MM"),""))))) -> 09:05 | F88: =IF(F94="M",TEXT(7.8/24+RAND()*(8.3/24-7.8/24),"HH:MM"),(IF(F94="E",TEXT(13.8/24+RAND()*(14.3/24-13.8/24),"HH:MM"),IF(F94="GS",TEXT(8.8/24+RAND()*(9.3/24-8.8/24),"HH:MM"),IF(F94="N",TEXT(19.8/24+RAND()*(20.3/24-19.8/24),"HH:MM"),""))))) -> 09:05 | G88: =IF(G94="M",TEXT(7.8/24+RAND()*(8.3/24-7.8/24),"HH:MM"),(IF(G94="E",TEXT(13.8/24+RAND()*(14.3/24-13.8/24),"HH:MM"),IF(G94="GS",TEXT(8.8/24+RAND()*(9.3/24-8.8/24),"HH:MM"),IF(G94="N",TEXT(19.8/24+RAND()*(20.3/24-19.8/24),"HH:MM"),""))))) -> 09:16 | H88: =IF(H94="M",TEXT(7.8/24+RAND()*(8.3/24-7.8/24),"HH:MM"),(IF(H94="E",TEXT(13.8/24+RAND()*(14.3/24-13.8/24),"HH:MM"),IF(H94="GS",TEXT(8.8/24+RAND()*(9.3/24-8.8/24),"HH:MM"),IF(H94="N",TEXT(19.8/24+RAND()*(20.3/24-19.8/24),"HH:MM"),""))))) | I88: =IF(I94="M",TEXT(7.8/24+RAND()*(8.3/24-7.8/24),"HH:MM"),(IF(I94="E",TEXT(13.8/24+RAND()*(14.3/24-13.8/24),"HH:MM"),IF(I94="GS",TEXT(8.8/24+RAND()*(9.3/24-8.8/24),"HH:MM"),IF(I94="N",TEXT(19.8/24+RAND()*(20.3/24-19.8/24),"HH:MM"),""))))) -> 09:11 | ... AE88: =IF(AE94="M",TEXT(7.8/24+RAND()*(8.3/24-7.8/24),"HH:MM"),(IF(AE94="E",TEXT(13.8/24+RAND()*(14.3/24-13.8/24),"HH:MM"),IF(AE94="GS",TEXT(8.8/24+RAND()*(9.3/24-8.8/24),"HH:MM"),IF(AE94="N",TEXT(19.8/24+RAND()*(20.3/24-19.8/24),"HH:MM"),""))))) -> 08:55 | AG88: absent | AH88: =COUNTIF(B87:AE87,"A") -> 0
A89: OutTime | B89: =IF(B94="M",TEXT(17/24+RAND()*(17.3/24-17/24),"HH:MM"),(IF(B94="E",TEXT(20/24+RAND()*(20.3/24-20/24),"HH:MM"),IF(B94="N",TEXT(8/24+RAND()*(8.3/24-8/24),"HH:MM"),IF(B94="GS",TEXT(17/24+RAND()*(17.3/24-17/24),"HH:MM"),""))))) -> 17:10 | C89: =IF(C94="M",TEXT(17/24+RAND()*(17.3/24-17/24),"HH:MM"),(IF(C94="E",TEXT(20/24+RAND()*(20.3/24-20/24),"HH:MM"),IF(C94="N",TEXT(8/24+RAND()*(8.3/24-8/24),"HH:MM"),IF(C94="GS",TEXT(17/24+RAND()*(17.3/24-17/24),"HH:MM"),""))))) -> 17:11 | D89: =IF(D94="M",TEXT(17/24+RAND()*(17.3/24-17/24),"HH:MM"),(IF(D94="E",TEXT(20/24+RAND()*(20.3/24-20/24),"HH:MM"),IF(D94="N",TEXT(8/24+RAND()*(8.3/24-8/24),"HH:MM"),IF(D94="GS",TEXT(17/24+RAND()*(17.3/24-17/24),"HH:MM"),""))))) -> 17:09 | E89: =IF(E94="M",TEXT(17/24+RAND()*(17.3/24-17/24),"HH:MM"),(IF(E94="E",TEXT(20/24+RAND()*(20.3/24-20/24),"HH:MM"),IF(E94="N",TEXT(8/24+RAND()*(8.3/24-8/24),"HH:MM"),IF(E94="GS",TEXT(17/24+RAND()*(17.3/24-17/24),"HH:MM"),""))))) -> 17:00 | F89: =IF(F94="M",TEXT(17/24+RAND()*(17.3/24-17/24),"HH:MM"),(IF(F94="E",TEXT(20/24+RAND()*(20.3/24-20/24),"HH:MM"),IF(F94="N",TEXT(8/24+RAND()*(8.3/24-8/24),"HH:MM"),IF(F94="GS",TEXT(17/24+RAND()*(17.3/24-17/24),"HH:MM"),""))))) -> 17:04 | G89: =IF(G94="M",TEXT(17/24+RAND()*(17.3/24-17/24),"HH:MM"),(IF(G94="E",TEXT(20/24+RAND()*(20.3/24-20/24),"HH:MM"),IF(G94="N",TEXT(8/24+RAND()*(8.3/24-8/24),"HH:MM"),IF(G94="GS",TEXT(17/24+RAND()*(17.3/24-17/24),"HH:MM"),""))))) -> 17:09 | H89: =IF(H94="M",TEXT(17/24+RAND()*(17.3/24-17/24),"HH:MM"),(IF(H94="E",TEXT(20/24+RAND()*(20.3/24-20/24),"HH:MM"),IF(H94="N",TEXT(8/24+RAND()*(8.3/24-8/24),"HH:MM"),IF(H94="GS",TEXT(17/24+RAND()*(17.3/24-17/24),"HH:MM"),""))))) | I89: =IF(I94="M",TEXT(17/24+RAND()*(17.3/24-17/24),"HH:MM"),(IF(I94="E",TEXT(20/24+RAND()*(20.3/24-20/24),"HH:MM"),IF(I94="N",TEXT(8/24+RAND()*(8.3/24-8/24),"HH:MM"),IF(I94="GS",TEXT(17/24+RAND()*(17.3/24-17/24),"HH:MM"),""))))) -> 17:07 | ... AE89: =IF(AE94="M",TEXT(17/24+RAND()*(17.3/24-17/24),"HH:MM"),(IF(AE94="E",TEXT(20/24+RAND()*(20.3/24-20/24),"HH:MM"),IF(AE94="N",TEXT(8/24+RAND()*(8.3/24-8/24),"HH:MM"),IF(AE94="GS",TEXT(17/24+RAND()*(17.3/24-17/24),"HH:MM"),""))))) -> 17:01 | AG89: WeekOFF | AH89: =COUNTIF(B94:AE94,"O") -> 4
A90: Duration | B90: =IF(B94="M",TEXT(B89-B88,"H:MM"),IF(B94="E",TEXT(B89-B88,"H:MM"),IF(B94="N",TEXT(B89+24-B88+30,"H:MM"),IF(B94="GS",TEXT(B89-B88,"H:MM"),"")))) -> 8:00 | C90: =IF(C94="M",TEXT(C89-C88,"H:MM"),IF(C94="E",TEXT(C89-C88,"H:MM"),IF(C94="N",TEXT(C89+24-C88+30,"H:MM"),IF(C94="GS",TEXT(C89-C88,"H:MM"),"")))) -> 8:19 | D90: =IF(D94="M",TEXT(D89-D88,"H:MM"),IF(D94="E",TEXT(D89-D88,"H:MM"),IF(D94="N",TEXT(D89+24-D88+30,"H:MM"),IF(D94="GS",TEXT(D89-D88,"H:MM"),"")))) -> 8:14 | E90: =IF(E94="M",TEXT(E89-E88,"H:MM"),IF(E94="E",TEXT(E89-E88,"H:MM"),IF(E94="N",TEXT(E89+24-E88+30,"H:MM"),IF(E94="GS",TEXT(E89-E88,"H:MM"),"")))) -> 7:55 | F90: =IF(F94="M",TEXT(F89-F88,"H:MM"),IF(F94="E",TEXT(F89-F88,"H:MM"),IF(F94="N",TEXT(F89+24-F88+30,"H:MM"),IF(F94="GS",TEXT(F89-F88,"H:MM"),"")))) -> 7:59 | G90: =IF(G94="M",TEXT(G89-G88,"H:MM"),IF(G94="E",TEXT(G89-G88,"H:MM"),IF(G94="N",TEXT(G89+24-G88+30,"H:MM"),IF(G94="GS",TEXT(G89-G88,"H:MM"),"")))) -> 7:53 | H90: =IF(H94="M",TEXT(H89-H88,"H:MM"),IF(H94="E",TEXT(H89-H88,"H:MM"),IF(H94="N",TEXT(H89+24-H88+30,"H:MM"),IF(H94="GS",TEXT(H89-H88,"H:MM"),"")))) | I90: =IF(I94="M",TEXT(I89-I88,"H:MM"),IF(I94="E",TEXT(I89-I88,"H:MM"),IF(I94="N",TEXT(I89+24-I88+30,"H:MM"),IF(I94="GS",TEXT(I89-I88,"H:MM"),"")))) -> 7:56 | ... AE90: =IF(AE94="M",TEXT(AE89-AE88,"H:MM"),IF(AE94="E",TEXT(AE89-AE88,"H:MM"),IF(AE94="N",TEXT(AE89+24-AE88+30,"H:MM"),IF(AE94="GS",TEXT(AE89-AE88,"H:MM"),"")))) -> 8:06 | AG90: late by days | AH90: =COUNTIF(B91:AE91,(B91:AE91)>0) -> 0
A91: Late By | B91: =IF(AND(B94="GS",B96>$B$19),TEXT(B96-$B$19,"HH:MM"),IF(AND(B94="M",B96>$B$15),TEXT(B96-$B$15,"HH:MM"),IF(AND(B94="E",B96>$B$17),TEXT(B96-$B$17,"HH:MM"),IF(AND(B94="N",B96>$B$18),TEXT(B96-$B$18,"HH:MM"),IF(OR(B94="O",B94="A"),"",0))))) -> 00:10 | C91: =IF(AND(C94="GS",C96>$B$19),TEXT(C96-$B$19,"HH:MM"),IF(AND(C94="M",C96>$B$15),TEXT(C96-$B$15,"HH:MM"),IF(AND(C94="E",C96>$B$17),TEXT(C96-$B$17,"HH:MM"),IF(AND(C94="N",C96>$B$18),TEXT(C96-$B$18,"HH:MM"),IF(OR(C94="O",C94="A"),"",0))))) -> 0 | D91: =IF(AND(D94="GS",D96>$B$19),TEXT(D96-$B$19,"HH:MM"),IF(AND(D94="M",D96>$B$15),TEXT(D96-$B$15,"HH:MM"),IF(AND(D94="E",D96>$B$17),TEXT(D96-$B$17,"HH:MM"),IF(AND(D94="N",D96>$B$18),TEXT(D96-$B$18,"HH:MM"),IF(OR(D94="O",D94="A"),"",0))))) -> 0 | E91: =IF(AND(E94="GS",E96>$B$19),TEXT(E96-$B$19,"HH:MM"),IF(AND(E94="M",E96>$B$15),TEXT(E96-$B$15,"HH:MM"),IF(AND(E94="E",E96>$B$17),TEXT(E96-$B$17,"HH:MM"),IF(AND(E94="N",E96>$B$18),TEXT(E96-$B$18,"HH:MM"),IF(OR(E94="O",E94="A"),"",0))))) -> 00:05 | F91: =IF(AND(F94="GS",F96>$B$19),TEXT(F96-$B$19,"HH:MM"),IF(AND(F94="M",F96>$B$15),TEXT(F96-$B$15,"HH:MM"),IF(AND(F94="E",F96>$B$17),TEXT(F96-$B$17,"HH:MM"),IF(AND(F94="N",F96>$B$18),TEXT(F96-$B$18,"HH:MM"),IF(OR(F94="O",F94="A"),"",0))))) -> 00:05 | G91: =IF(AND(G94="GS",G96>$B$19),TEXT(G96-$B$19,"HH:MM"),IF(AND(G94="M",G96>$B$15),TEXT(G96-$B$15,"HH:MM"),IF(AND(G94="E",G96>$B$17),TEXT(G96-$B$17,"HH:MM"),IF(AND(G94="N",G96>$B$18),TEXT(G96-$B$18,"HH:MM"),IF(OR(G94="O",G94="A"),"",0))))) -> 00:16 | H91: =IF(AND(H94="GS",H96>$B$19),TEXT(H96-$B$19,"HH:MM"),IF(AND(H94="M",H96>$B$15),TEXT(H96-$B$15,"HH:MM"),IF(AND(H94="E",H96>$B$17),TEXT(H96-$B$17,"HH:MM"),IF(AND(H94="N",H96>$B$18),TEXT(H96-$B$18,"HH:MM"),IF(OR(H94="O",H94="A"),"",0))))) | I91: =IF(AND(I94="GS",I96>$B$19),TEXT(I96-$B$19,"HH:MM"),IF(AND(I94="M",I96>$B$15),TEXT(I96-$B$15,"HH:MM"),IF(AND(I94="E",I96>$B$17),TEXT(I96-$B$17,"HH:MM"),IF(AND(I94="N",I96>$B$18),TEXT(I96-$B$18,"HH:MM"),IF(OR(I94="O",I94="A"),"",0))))) -> 00:11 | ... AE91: =IF(AND(AE94="GS",AE96>$B$19),TEXT(AE96-$B$19,"HH:MM"),IF(AND(AE94="M",AE96>$B$15),TEXT(AE96-$B$15,"HH:MM"),IF(AND(AE94="E",AE96>$B$17),TEXT(AE96-$B$17,"HH:MM"),IF(AND(AE94="N",AE96>$B$18),TEXT(AE96-$B$18,"HH:MM"),IF(OR(AE94="O",AE94="A"),"",0))))) -> 0
A92: Early By
A93: OT
A94: Shift | B94: =Entry!B7 -> GS | C94: =Entry!C7 -> GS | D94: =Entry!D7 -> GS | E94: =Entry!E7 -> GS | F94: =Entry!F7 -> GS | G94: =Entry!G7 -> GS | H94: =Entry!H7 -> O | I94: =Entry!I7 -> GS | ... AE94: =Entry!AE7 -> GS
A95: M | B95: 0.33333333
B96: =IF(OR(B94="O",B94="A"),"O ",VALUE(B88)) -> 0.38194444 | C96: =IF(OR(C94="O",C94="A"),"O ",VALUE(C88)) -> 0.36944444 | D96: =IF(OR(D94="O",D94="A"),"O ",VALUE(D88)) -> 0.37152778 | E96: =IF(OR(E94="O",E94="A"),"O ",VALUE(E88)) -> 0.37847222 | F96: =IF(OR(F94="O",F94="A"),"O ",VALUE(F88)) -> 0.37847222 | G96: =IF(OR(G94="O",G94="A"),"O ",VALUE(G88)) -> 0.38611111 | H96: =IF(OR(H94="O",H94="A"),"O ",VALUE(H88)) -> O | I96: =IF(OR(I94="O",I94="A"),"O ",VALUE(I88)) -> 0.38263889 | ... AE96: =IF(OR(AE94="O",AE94="A"),"O ",VALUE(AE88)) -> 0.37152778
A97: E | B97: 0.58333333
A98: N | B98: 0.83333333
A99: GS | B99: 0.375
A100: Late | B100: =IF(OR(B94="O",B94="A"),0,VALUE(B91)) -> 0.0069444444 | C100: =IF(OR(C94="O",C94="A"),0,VALUE(C91)) -> 0 | D100: =IF(OR(D94="O",D94="A"),0,VALUE(D91)) -> 0 | E100: =IF(OR(E94="O",E94="A"),0,VALUE(E91)) -> 0.0034722222 | F100: =IF(OR(F94="O",F94="A"),0,VALUE(F91)) -> 0.0034722222 | G100: =IF(OR(G94="O",G94="A"),0,VALUE(G91)) -> 0.011111111 | H100: =IF(OR(H94="O",H94="A"),0,VALUE(H91)) -> 0 | I100: =IF(OR(I94="O",I94="A"),0,VALUE(I91)) -> 0.0076388889 | ... AE100: =IF(OR(AE94="O",AE94="A"),0,VALUE(AE91)) -> 0 | AG100: =SUM(B100:AE100) -> 0.095833333
B101: =IF(OR(B94="O",B94="A"),0,VALUE(B90)) -> 0.33333333 | C101: =IF(OR(C94="O",C94="A"),0,VALUE(C90)) -> 0.34652778 | D101: =IF(OR(D94="O",D94="A"),0,VALUE(D90)) -> 0.34305556 | E101: =IF(OR(E94="O",E94="A"),0,VALUE(E90)) -> 0.32986111 | F101: =IF(OR(F94="O",F94="A"),0,VALUE(F90)) -> 0.33263889 | G101: =IF(OR(G94="O",G94="A"),0,VALUE(G90)) -> 0.32847222 | H101: =IF(OR(H94="O",H94="A"),0,VALUE(H90)) -> 0 | I101: =IF(OR(I94="O",I94="A"),0,VALUE(I90)) -> 0.33055556 | ... AE101: =IF(OR(AE94="O",AE94="A"),0,VALUE(AE90)) -> 0.3375 | AG101: =SUM(B101:AE101) -> 8.7576389
A105: =Entry!A8 -> DR. RAHUL SINGH | H105: Total Work Duration: | L105: =AG121 -> 8.75625 | M105: Hrs. | N105: Total OT: | P105: 0 | Q105: Hrs | R105: Present: | T105: =AH107 -> 26 | U105: Absent: | W105: =AH108 -> 0 | X105: WeeklyOff: | Z105: =AH109 -> 4 | AA105: Holidays: 0 Leaves Taken:0
H106: Late By Hrs: | K106: =AG120 -> 0.078472222 | L106: Late By Days: | N106: 0
A107: Status | B107: =IF(B114="M","P",IF(B114="E","P",IF(B114="N","P",IF(B114="GS","P",IF(B114="O","O","A"))))) -> P | C107: =IF(C114="M","P",IF(C114="E","P",IF(C114="N","P",IF(C114="GS","P",IF(C114="O","O","A"))))) -> P | D107: =IF(D114="M","P",IF(D114="E","P",IF(D114="N","P",IF(D114="GS","P",IF(D114="O","O","A"))))) -> P | E107: =IF(E114="M","P",IF(E114="E","P",IF(E114="N","P",IF(E114="GS","P",IF(E114="O","O","A"))))) -> P | F107: =IF(F114="M","P",IF(F114="E","P",IF(F114="N","P",IF(F114="GS","P",IF(F114="O","O","A"))))) -> P | G107: =IF(G114="M","P",IF(G114="E","P",IF(G114="N","P",IF(G114="GS","P",IF(G114="O","O","A"))))) -> P | H107: =IF(H114="M","P",IF(H114="E","P",IF(H114="N","P",IF(H114="GS","P",IF(H114="O","O","A"))))) -> O | I107: =IF(I114="M","P",IF(I114="E","P",IF(I114="N","P",IF(I114="GS","P",IF(I114="O","O","A"))))) -> P | ... AE107: =IF(AE114="M","P",IF(AE114="E","P",IF(AE114="N","P",IF(AE114="GS","P",IF(AE114="O","O","A"))))) -> P | AG107: present | AH107: =COUNTIF(B107:AE107,"P") -> 26
A108: InTime | B108: =IF(B114="M",TEXT(7.8/24+RAND()*(8.3/24-7.8/24),"HH:MM"),(IF(B114="E",TEXT(13.8/24+RAND()*(14.3/24-13.8/24),"HH:MM"),IF(B114="GS",TEXT(8.8/24+RAND()*(9.3/24-8.8/24),"HH:MM"),IF(B114="N",TEXT(19.8/24+RAND()*(20.3/24-19.8/24),"HH:MM"),""))))) -> 09:13 | C108: =IF(C114="M",TEXT(7.8/24+RAND()*(8.3/24-7.8/24),"HH:MM"),(IF(C114="E",TEXT(13.8/24+RAND()*(14.3/24-13.8/24),"HH:MM"),IF(C114="GS",TEXT(8.8/24+RAND()*(9.3/24-8.8/24),"HH:MM"),IF(C114="N",TEXT(19.8/24+RAND()*(20.3/24-19.8/24),"HH:MM"),""))))) -> 08:58 | D108: =IF(D114="M",TEXT(7.8/24+RAND()*(8.3/24-7.8/24),"HH:MM"),(IF(D114="E",TEXT(13.8/24+RAND()*(14.3/24-13.8/24),"HH:MM"),IF(D114="GS",TEXT(8.8/24+RAND()*(9.3/24-8.8/24),"HH:MM"),IF(D114="N",TEXT(19.8/24+RAND()*(20.3/24-19.8/24),"HH:MM"),""))))) -> 09:01 | E108: =IF(E114="M",TEXT(7.8/24+RAND()*(8.3/24-7.8/24),"HH:MM"),(IF(E114="E",TEXT(13.8/24+RAND()*(14.3/24-13.8/24),"HH:MM"),IF(E114="GS",TEXT(8.8/24+RAND()*(9.3/24-8.8/24),"HH:MM"),IF(E114="N",TEXT(19.8/24+RAND()*(20.3/24-19.8/24),"HH:MM"),""))))) -> 09:11 | F108: =IF(F114="M",TEXT(7.8/24+RAND()*(8.3/24-7.8/24),"HH:MM"),(IF(F114="E",TEXT(13.8/24+RAND()*(14.3/24-13.8/24),"HH:MM"),IF(F114="GS",TEXT(8.8/24+RAND()*(9.3/24-8.8/24),"HH:MM"),IF(F114="N",TEXT(19.8/24+RAND()*(20.3/24-19.8/24),"HH:MM"),""))))) -> 08:53 | G108: =IF(G114="M",TEXT(7.8/24+RAND()*(8.3/24-7.8/24),"HH:MM"),(IF(G114="E",TEXT(13.8/24+RAND()*(14.3/24-13.8/24),"HH:MM"),IF(G114="GS",TEXT(8.8/24+RAND()*(9.3/24-8.8/24),"HH:MM"),IF(G114="N",TEXT(19.8/24+RAND()*(20.3/24-19.8/24),"HH:MM"),""))))) -> 09:06 | H108: =IF(H114="M",TEXT(7.8/24+RAND()*(8.3/24-7.8/24),"HH:MM"),(IF(H114="E",TEXT(13.8/24+RAND()*(14.3/24-13.8/24),"HH:MM"),IF(H114="GS",TEXT(8.8/24+RAND()*(9.3/24-8.8/24),"HH:MM"),IF(H114="N",TEXT(19.8/24+RAND()*(20.3/24-19.8/24),"HH:MM"),""))))) | I108: =IF(I114="M",TEXT(7.8/24+RAND()*(8.3/24-7.8/24),"HH:MM"),(IF(I114="E",TEXT(13.8/24+RAND()*(14.3/24-13.8/24),"HH:MM"),IF(I114="GS",TEXT(8.8/24+RAND()*(9.3/24-8.8/24),"HH:MM"),IF(I114="N",TEXT(19.8/24+RAND()*(20.3/24-19.8/24),"HH:MM"),""))))) -> 08:57 | ... AE108: =IF(AE114="M",TEXT(7.8/24+RAND()*(8.3/24-7.8/24),"HH:MM"),(IF(AE114="E",TEXT(13.8/24+RAND()*(14.3/24-13.8/24),"HH:MM"),IF(AE114="GS",TEXT(8.8/24+RAND()*(9.3/24-8.8/24),"HH:MM"),IF(AE114="N",TEXT(19.8/24+RAND()*(20.3/24-19.8/24),"HH:MM"),""))))) -> 08:56 | AG108: absent | AH108: =COUNTIF(B107:AE107,"A") -> 0
A109: OutTime | B109: =IF(B114="M",TEXT(17/24+RAND()*(17.3/24-17/24),"HH:MM"),(IF(B114="E",TEXT(20/24+RAND()*(20.3/24-20/24),"HH:MM"),IF(B114="N",TEXT(8/24+RAND()*(8.3/24-8/24),"HH:MM"),IF(B114="GS",TEXT(17/24+RAND()*(17.3/24-17/24),"HH:MM"),""))))) -> 17:13 | C109: =IF(C114="M",TEXT(17/24+RAND()*(17.3/24-17/24),"HH:MM"),(IF(C114="E",TEXT(20/24+RAND()*(20.3/24-20/24),"HH:MM"),IF(C114="N",TEXT(8/24+RAND()*(8.3/24-8/24),"HH:MM"),IF(C114="GS",TEXT(17/24+RAND()*(17.3/24-17/24),"HH:MM"),""))))) -> 17:00 | D109: =IF(D114="M",TEXT(17/24+RAND()*(17.3/24-17/24),"HH:MM"),(IF(D114="E",TEXT(20/24+RAND()*(20.3/24-20/24),"HH:MM"),IF(D114="N",TEXT(8/24+RAND()*(8.3/24-8/24),"HH:MM"),IF(D114="GS",TEXT(17/24+RAND()*(17.3/24-17/24),"HH:MM"),""))))) -> 17:17 | E109: =IF(E114="M",TEXT(17/24+RAND()*(17.3/24-17/24),"HH:MM"),(IF(E114="E",TEXT(20/24+RAND()*(20.3/24-20/24),"HH:MM"),IF(E114="N",TEXT(8/24+RAND()*(8.3/24-8/24),"HH:MM"),IF(E114="GS",TEXT(17/24+RAND()*(17.3/24-17/24),"HH:MM"),""))))) -> 17:05 | F109: =IF(F114="M",TEXT(17/24+RAND()*(17.3/24-17/24),"HH:MM"),(IF(F114="E",TEXT(20/24+RAND()*(20.3/24-20/24),"HH:MM"),IF(F114="N",TEXT(8/24+RAND()*(8.3/24-8/24),"HH:MM"),IF(F114="GS",TEXT(17/24+RAND()*(17.3/24-17/24),"HH:MM"),""))))) -> 17:04 | G109: =IF(G114="M",TEXT(17/24+RAND()*(17.3/24-17/24),"HH:MM"),(IF(G114="E",TEXT(20/24+RAND()*(20.3/24-20/24),"HH:MM"),IF(G114="N",TEXT(8/24+RAND()*(8.3/24-8/24),"HH:MM"),IF(G114="GS",TEXT(17/24+RAND()*(17.3/24-17/24),"HH:MM"),""))))) -> 17:01 | H109: =IF(H114="M",TEXT(17/24+RAND()*(17.3/24-17/24),"HH:MM"),(IF(H114="E",TEXT(20/24+RAND()*(20.3/24-20/24),"HH:MM"),IF(H114="N",TEXT(8/24+RAND()*(8.3/24-8/24),"HH:MM"),IF(H114="GS",TEXT(17/24+RAND()*(17.3/24-17/24),"HH:MM"),""))))) | I109: =IF(I114="M",TEXT(17/24+RAND()*(17.3/24-17/24),"HH:MM"),(IF(I114="E",TEXT(20/24+RAND()*(20.3/24-20/24),"HH:MM"),IF(I114="N",TEXT(8/24+RAND()*(8.3/24-8/24),"HH:MM"),IF(I114="GS",TEXT(17/24+RAND()*(17.3/24-17/24),"HH:MM"),""))))) -> 17:02 | ... AE109: =IF(AE114="M",TEXT(17/24+RAND()*(17.3/24-17/24),"HH:MM"),(IF(AE114="E",TEXT(20/24+RAND()*(20.3/24-20/24),"HH:MM"),IF(AE114="N",TEXT(8/24+RAND()*(8.3/24-8/24),"HH:MM"),IF(AE114="GS",TEXT(17/24+RAND()*(17.3/24-17/24),"HH:MM"),""))))) -> 17:00 | AG109: WeekOFF | AH109: =COUNTIF(B114:AE114,"O") -> 4
A110: Duration | B110: =IF(B114="M",TEXT(B109-B108,"H:MM"),IF(B114="E",TEXT(B109-B108,"H:MM"),IF(B114="N",TEXT(B109+24-B108+30,"H:MM"),IF(B114="GS",TEXT(B109-B108,"H:MM"),"")))) -> 8:00 | C110: =IF(C114="M",TEXT(C109-C108,"H:MM"),IF(C114="E",TEXT(C109-C108,"H:MM"),IF(C114="N",TEXT(C109+24-C108+30,"H:MM"),IF(C114="GS",TEXT(C109-C108,"H:MM"),"")))) -> 8:02 | D110: =IF(D114="M",TEXT(D109-D108,"H:MM"),IF(D114="E",TEXT(D109-D108,"H:MM"),IF(D114="N",TEXT(D109+24-D108+30,"H:MM"),IF(D114="GS",TEXT(D109-D108,"H:MM"),"")))) -> 8:16 | E110: =IF(E114="M",TEXT(E109-E108,"H:MM"),IF(E114="E",TEXT(E109-E108,"H:MM"),IF(E114="N",TEXT(E109+24-E108+30,"H:MM"),IF(E114="GS",TEXT(E109-E108,"H:MM"),"")))) -> 7:54 | F110: =IF(F114="M",TEXT(F109-F108,"H:MM"),IF(F114="E",TEXT(F109-F108,"H:MM"),IF(F114="N",TEXT(F109+24-F108+30,"H:MM"),IF(F114="GS",TEXT(F109-F108,"H:MM"),"")))) -> 8:11 | G110: =IF(G114="M",TEXT(G109-G108,"H:MM"),IF(G114="E",TEXT(G109-G108,"H:MM"),IF(G114="N",TEXT(G109+24-G108+30,"H:MM"),IF(G114="GS",TEXT(G109-G108,"H:MM"),"")))) -> 7:55 | H110: =IF(H114="M",TEXT(H109-H108,"H:MM"),IF(H114="E",TEXT(H109-H108,"H:MM"),IF(H114="N",TEXT(H109+24-H108+30,"H:MM"),IF(H114="GS",TEXT(H109-H108,"H:MM"),"")))) | I110: =IF(I114="M",TEXT(I109-I108,"H:MM"),IF(I114="E",TEXT(I109-I108,"H:MM"),IF(I114="N",TEXT(I109+24-I108+30,"H:MM"),IF(I114="GS",TEXT(I109-I108,"H:MM"),"")))) -> 8:05 | ... AE110: =IF(AE114="M",TEXT(AE109-AE108,"H:MM"),IF(AE114="E",TEXT(AE109-AE108,"H:MM"),IF(AE114="N",TEXT(AE109+24-AE108+30,"H:MM"),IF(AE114="GS",TEXT(AE109-AE108,"H:MM"),"")))) -> 8:04 | AG110: late by days | AH110: =COUNTIF(B111:AE111,(B111:AE111)>0) -> 0
A111: Late By | B111: =IF(AND(B114="GS",B116>$B$19),TEXT(B116-$B$19,"HH:MM"),IF(AND(B114="M",B116>$B$15),TEXT(B116-$B$15,"HH:MM"),IF(AND(B114="E",B116>$B$17),TEXT(B116-$B$17,"HH:MM"),IF(AND(B114="N",B116>$B$18),TEXT(B116-$B$18,"HH:MM"),IF(OR(B114="O",B114="A"),"",0))))) -> 00:13 | C111: =IF(AND(C114="GS",C116>$B$19),TEXT(C116-$B$19,"HH:MM"),IF(AND(C114="M",C116>$B$15),TEXT(C116-$B$15,"HH:MM"),IF(AND(C114="E",C116>$B$17),TEXT(C116-$B$17,"HH:MM"),IF(AND(C114="N",C116>$B$18),TEXT(C116-$B$18,"HH:MM"),IF(OR(C114="O",C114="A"),"",0))))) -> 0 | D111: =IF(AND(D114="GS",D116>$B$19),TEXT(D116-$B$19,"HH:MM"),IF(AND(D114="M",D116>$B$15),TEXT(D116-$B$15,"HH:MM"),IF(AND(D114="E",D116>$B$17),TEXT(D116-$B$17,"HH:MM"),IF(AND(D114="N",D116>$B$18),TEXT(D116-$B$18,"HH:MM"),IF(OR(D114="O",D114="A"),"",0))))) -> 00:01 | E111: =IF(AND(E114="GS",E116>$B$19),TEXT(E116-$B$19,"HH:MM"),IF(AND(E114="M",E116>$B$15),TEXT(E116-$B$15,"HH:MM"),IF(AND(E114="E",E116>$B$17),TEXT(E116-$B$17,"HH:MM"),IF(AND(E114="N",E116>$B$18),TEXT(E116-$B$18,"HH:MM"),IF(OR(E114="O",E114="A"),"",0))))) -> 00:11 | F111: =IF(AND(F114="GS",F116>$B$19),TEXT(F116-$B$19,"HH:MM"),IF(AND(F114="M",F116>$B$15),TEXT(F116-$B$15,"HH:MM"),IF(AND(F114="E",F116>$B$17),TEXT(F116-$B$17,"HH:MM"),IF(AND(F114="N",F116>$B$18),TEXT(F116-$B$18,"HH:MM"),IF(OR(F114="O",F114="A"),"",0))))) -> 0 | G111: =IF(AND(G114="GS",G116>$B$19),TEXT(G116-$B$19,"HH:MM"),IF(AND(G114="M",G116>$B$15),TEXT(G116-$B$15,"HH:MM"),IF(AND(G114="E",G116>$B$17),TEXT(G116-$B$17,"HH:MM"),IF(AND(G114="N",G116>$B$18),TEXT(G116-$B$18,"HH:MM"),IF(OR(G114="O",G114="A"),"",0))))) -> 00:06 | H111: =IF(AND(H114="GS",H116>$B$19),TEXT(H116-$B$19,"HH:MM"),IF(AND(H114="M",H116>$B$15),TEXT(H116-$B$15,"HH:MM"),IF(AND(H114="E",H116>$B$17),TEXT(H116-$B$17,"HH:MM"),IF(AND(H114="N",H116>$B$18),TEXT(H116-$B$18,"HH:MM"),IF(OR(H114="O",H114="A"),"",0))))) | I111: =IF(AND(I114="GS",I116>$B$19),TEXT(I116-$B$19,"HH:MM"),IF(AND(I114="M",I116>$B$15),TEXT(I116-$B$15,"HH:MM"),IF(AND(I114="E",I116>$B$17),TEXT(I116-$B$17,"HH:MM"),IF(AND(I114="N",I116>$B$18),TEXT(I116-$B$18,"HH:MM"),IF(OR(I114="O",I114="A"),"",0))))) -> 0 | ... AE111: =IF(AND(AE114="GS",AE116>$B$19),TEXT(AE116-$B$19,"HH:MM"),IF(AND(AE114="M",AE116>$B$15),TEXT(AE116-$B$15,"HH:MM"),IF(AND(AE114="E",AE116>$B$17),TEXT(AE116-$B$17,"HH:MM"),IF(AND(AE114="N",AE116>$B$18),TEXT(AE116-$B$18,"HH:MM"),IF(OR(AE114="O",AE114="A"),"",0))))) -> 0
A112: Early By
A113: OT
A114: Shift | B114: =Entry!B8 -> GS | C114: =Entry!C8 -> GS | D114: =Entry!D8 -> GS | E114: =Entry!E8 -> GS | F114: =Entry!F8 -> GS | G114: =Entry!G8 -> GS | H114: =Entry!H8 -> O | I114: =Entry!I8 -> GS | ... AE114: =Entry!AE8 -> GS
A115: M | B115: 0.33333333
B116: =IF(OR(B114="O",B114="A"),"O ",VALUE(B108)) -> 0.38402778 | C116: =IF(OR(C114="O",C114="A"),"O ",VALUE(C108)) -> 0.37361111 | D116: =IF(OR(D114="O",D114="A"),"O ",VALUE(D108)) -> 0.37569444 | E116: =IF(OR(E114="O",E114="A"),"O ",VALUE(E108)) -> 0.38263889 | F116: =IF(OR(F114="O",F114="A"),"O ",VALUE(F108)) -> 0.37013889 | G116: =IF(OR(G114="O",G114="A"),"O ",VALUE(G108)) -> 0.37916667 | H116: =IF(OR(H114="O",H114="A"),"O ",VALUE(H108)) -> O | I116: =IF(OR(I114="O",I114="A"),"O ",VALUE(I108)) -> 0.37291667 | ... AE116: =IF(OR(AE114="O",AE114="A"),"O ",VALUE(AE108)) -> 0.37222222
...
